Workbook
Name CREATES: Listes!$F$12:$F$19
Name CREATES_Antenne: Listes!$C$26
Name DS4H: Listes!$I$12:$I$14
Name DS4H_Antenne: Listes!$E$26:$E$27
Name ELMI: Listes!$E$12:$E$19
Name ELMI_Antenne: Listes!$B$26:$B$27
Name HEALTHY: Listes!$L$12:$L$16
Name HEALTHY_Antenne: Listes!$G$26:$G$29
Name IAE: Listes!$C$12:$C$18
Name IDPD: Listes!$D$12
Name INSPE: Listes!$B$12:$B$15
Name LEXSOCIETE: Listes!$A$12:$A$17
Name LEXSOCIETE_Antenne: Listes!$A$26
Name LIFE: Listes!$K$12
Name list_cmp: Listes!$A$11:$L$11
Name List_CNU: Listes!$C$36:$C$92
Name List_Controle: Listes!$B$2:$B$6
Name List_Controle2: Listes!$A$2:$A$4
Name List_Mutualisation: Listes!$E$2:$E$3
Name List_NatureELP: Listes!$D$2:$D$6
Name List_RegimeInscription: Listes!$C$2:$C$3
Name List_Statut: Listes!$F$2:$F$4
Name List_Type: Listes!$G$2:$G$4
Name liste_cmp: #REF!
Name liste_mention: #REF!
Name Médecine: #REF!
Name ODYSSEE: Listes!$G$12:$G$22
Name ODYSSEE_Antenne: Listes!$D$26:$D$29
Name POLYTECH_SOPHIA: Listes!$G$12:$G$13
Name Por: #REF!
Name Portail_Droit: #REF!
Name Portail_EG: #REF!
Name Portail_SHS: #REF!
Name Portail_SHS_LLAC: #REF!
Name Portail_ST_SV: #REF!
Name Portail_STAPS: #REF!
Name SPECTRUM: Listes!$J$12:$J$17
Name SPECTRUM_ANTENNE: Listes!$F$26:$F$28
Name tab_code: #REF!
Name tab_code_dip: Listes!$O$1:$P$61

Sheet Listes
A1: Type contrôle | B1: Nature contrôle | C1: Régime d'inscription | D1: Nature ELP | E1: Mutualisation | F1: Statut | G1: Type | O1: Mention | P1: Codage Diplôme
A2: CCI (CC Intégral) | B2: Écrit | C2: Initiale Hors-Apprentissage / Formation Continue / Formation Permanente | D2: UE | E2: Porteuse | F2: Création | G2: Obligatoire | O2: STAPS: Activité physique adaptée et santé | P2: PMAPA18
A3: CT (Contrôle terminal) | B3: Oral | C3: Contrat d'Apprentissage/ Contrat de Professionnalisation | D3: ECUE | E3: Portée | F3: Modification | G3: Facultatif | O3: STAPS: Entrainement et optimisation de la performance sportive | P3: PMEOS18
A4: CC&CT | B4: Écrit/Pratique | D4: BLOC | F4: Fermeture | G4: Complémentaire | O4: Sciences du vivant | P4: SMVIE18
B5: Rapport/Mémoire | D5: OPTION | O5: Ingénierie de la santé | P5: MMISA18
B6: Pratique sportive | D6: Parcours Pédagogique | O6: Ingénierie de la santé | P6: SMISA18
O7: Economie | P7: IMECO18
O8: Innovation, entreprise et société | P8: IMIES18
O9: Monnaie, banque, finance, assurance | P9: IMMBF18
O10: Gestion des ressources humaines | P10: IMGRH18
A11: LEXSOCIETE | B11: INSPE | C11: IAE | D11: IDPD | E11: ELMI | F11: CREATES | G11: ODYSSEE | H11: POLYTECH SOPHIA | I11: DS4H | J11: SPECTRUM | K11: LIFE | L11: HEALTHY | O11: Economie des organisations | P11: IMEOR18
A12: Administration et liquidation d'entreprises en difficulté | B12: Métiers de l'enseignement de l'éducation et de la formation (MEEF), 1er degré | C12: Management et commerce international | D12: Droit international et européen | E12: Innovation, entreprise et société | F12: Français Langue Etrangère (FLE) | G12: Civilisations, cultures et sociétés | H12: Informatique | I12: Informatique | J12: Mathématiques et applications | K12: Sciences du vivant | L12: STAPS: Activité physique adaptée et santé | O12: Management et commerce international | P12: IMMCI18
A13: Droit public | B13: Métiers de l'enseignement de l'éducation et de la formation (MEEF), pratiques et ingénierie de la formation | C13: Gestion de patrimoine | E13: Monnaie, banque, finance, assurance | F13: Arts | G13: Sciences sociales | H13: Gestion de l'environnement | I13: Électronique, énergie électrique, automatique | J13: Sciences et génie des matériaux | L13: STAPS: Entrainement et optimisation de la performance sportive | O13: Management et commerce international | P13: GMMCI18
A14: Droit privé | B14: Métiers de l'enseignement de l'éducation et de la formation (MEEF), encadrement éducatif | C14: Comptabilité - contrôle - audit | E14: Gestion des ressources humaines | F14: Humanités et industries créatives | G14: Information, communication | I14: Méthodes informatiques appliquées à la gestion des entreprises | J14: Chimie moléculaire | L14: Management du sport | O14: Gestion de patrimoine | P14: GMGDP18
A15: Droit notarial | B15: Métiers de l'enseignement de l'éducation et de la formation (MEEF), 2e degré | C15: Contrôle de gestion et audit organisationnel | E15: Economie des organisations | F15: Langues étrangères appliquées (LEA) | G15: Pyschologie | J15: Gestion de l'environnement | L15: Ingénierie de la santé | O15: Comptabilité - contrôle - audit | P15: GMCCA18
A16: Droit des affaires | C16: Marketing, vente | E16: Management et commerce international | F16: Langues, littératures et civilisations étrangères et régionales (LLCER) | G16: Histoire, civilisation et patrimoine | J16: Physique fondamentale et applications | L16: Psychologie | O16: Contrôle de gestion et audit organisationnel | P16: GMGAO18
A17: Sciences politiques | C17: Management | E17: Tourisme | F17: Lettres | G17: Ville et environnements urbains | J17: Sciences de la Terre et des planètes, environnement | O17: Marketing, vente | P17: GMMKT18
C18: Management et administration des entreprises | E18: Innovation, entreprise et société | F18: Sciences cognitives | G18: Information et médiation scientifique et technique | O18: Management | P18: GMMGT18
E19: Economie | F19: Sciences du langage | G19: Sciences Politiques | O19: Tourisme | P19: IMTOU18
G20: Droit International et droit européen | O20: Management et administration des entreprises | P20: GMMAE18
G21: Sciences de la terre et des planètes, environnement | O21: Administration et liquidation d'entreprises en difficulté | P21: DMLED18
G22: Gestion de l'environnement | O22: Droit public | P22: DMPUB18
O23: Droit privé | P23: DMDPR18
A24: _Antenne | O24: Droit notarial | P24: DMNOT18
A25: LEXSOCIETE_Antenne | B25: ELMI_Antenne | C25: CREATES_Antenne | D25: ODYSSEE_Antenne | E25: DS4H_Antenne | F25: SPECTRUM_Antenne | G25: HEALTHY_Antenne | O25: Droit des affaires | P25: DMAFF18
A26: IMREDD | B26: SOPHIA | C26: GEORGES MELIES | D26: SJA | E26: TROTABAS | F26: GRASSE | G26: CARLONE | O26: Science politique | P26: DMSPO18
B27: TROTABAS | D27: TROTABAS | E27: VALROSE | F27: SOPHIA | G27: PASTEUR | O27: Droit international et européen | P27: XMDIE18
D28: VALROSE | F28: IMREDD | G28: SJA | O28: Métiers de l'enseignement de l'éducation et de la formation (MEEF), 1er degré | P28: VMM1D18
D29: IMREDD | G29: VALROSE | O29: Métiers de l'enseignement de l'éducation et de la formation (MEEF), pratiques et ingénierie de la formation | P29: VMPIF18
O30: Métiers de l'enseignement de l'éducation et de la formation (MEEF), encadrement éducatif | P30: VMMEE18
O31: Métiers de l'enseignement de l'éducation et de la formation (MEEF), 2e degré | P31: VMM2D18
O32: Français Langue Etrangère (FLE) | P32: HMFLE18
O33: Arts | P33: HMARS18
O34: Humanités et industries créatives | P34: HMUIC18
C35: CNU | O35: Information, communication | P35: HMICO18
C36: 01-Droit privé et sciences criminelles | O36: Langues étrangères appliquées (LEA) | P36: HMEAP18
C37: 02-Droit public | O37: Langues, littératures et civilisations étrangères et régionales (LLCER) | P37: HMCER18
C38: 03-Histoire du droit et des institutions | O38: Lettres | P38: HMLET18
C39: 04-Science politique | O39: Civilisations, cultures et sociétés | P39: HMVCS18
C40: 05-Sciences économiques | O40: Psychologie | P40: HMPSY18
...

Sheet Calcul
A1: Heure Pédagogique | AA1: Heure CM
A3: Semestre 1 | D3: Semestre 2 | G3: Semestre 3 | J3: Semestre 4 | AA3: Semestre 1 | AB3: Semestre 2 | AC3: Semestre 3 | AD3: Semestre 4
A4: Heure CM | B4: Heure TD | C4: Heure TP | D4: Heure CM | E4: Heure TD | F4: Heure TP | G4: Heure CM | H4: Heure TD | I4: Heure TP | J4: Heure CM | K4: Heure TD | L4: Heure TP | AA4: ='S1 M1 DEUE Maquette'!I19*1.5 -> 0 | AB4: =#REF!*1.5 -> #REF! | AC4: =#REF!*1.5 -> #REF! | AD4: =#REF!*1.5 -> #REF!
A5: =SUM(AA4:AA291) -> 285 | B5: =SUM('S1 M1 DEUE Maquette'!J19:J300) -> 65 | C5: =SUM('S1 M1 DEUE Maquette'!K19:K300) -> 0 | D5: =SUM(AB4:AB291) -> #REF! | E5: =SUM(#REF!) -> #REF! | F5: =SUM(#REF!) -> #REF! | G5: =SUM(AC4:AC291) -> #REF! | H5: =SUM(#REF!) -> #REF! | I5: =SUM(#REF!) -> #REF! | J5: =SUM(AD4:AD291) -> #REF! | K5: =SUM(#REF!) -> #REF! | L5: =SUM(#REF!) -> #REF! | AA5: ='S1 M1 DEUE Maquette'!I20*1.5 -> 45 | AB5: =#REF!*1.5 -> #REF! | AC5: =#REF!*1.5 -> #REF! | AD5: =#REF!*1.5 -> #REF!
A6: Total | D6: Total | G6: Total | J6: Total | AA6: ='S1 M1 DEUE Maquette'!I21*1.5 -> 0 | AB6: =#REF!*1.5 -> #REF! | AC6: =#REF!*1.5 -> #REF! | AD6: =#REF!*1.5 -> #REF!
A7: =SUM(A5,B5,C5) -> 350 | D7: =SUM(D5,E5,F5) -> #REF! | G7: =SUM(G5,H5,I5) -> #REF! | J7: =SUM(J5,K5,L5) -> #REF! | AA7: ='S1 M1 DEUE Maquette'!I22*1.5 -> 0 | AB7: =#REF!*1.5 -> #REF! | AC7: =#REF!*1.5 -> #REF! | AD7: =#REF!*1.5 -> #REF!
A8: Total | G8: Total | AA8: ='S1 M1 DEUE Maquette'!I23*1.5 -> 45 | AB8: =#REF!*1.5 -> #REF! | AC8: =#REF!*1.5 -> #REF! | AD8: =#REF!*1.5 -> #REF!
AA9: ='S1 M1 DEUE Maquette'!I24*1.5 -> 0 | AB9: =#REF!*1.5 -> #REF! | AC9: =#REF!*1.5 -> #REF! | AD9: =#REF!*1.5 -> #REF!
A10: =SUM(A7,D7) -> #REF! | G10: =SUM(G7,J7) -> #REF! | AA10: ='S1 M1 DEUE Maquette'!I25*1.5 -> 0 | AB10: =#REF!*1.5 -> #REF! | AC10: =#REF!*1.5 -> #REF! | AD10: =#REF!*1.5 -> #REF!
AA11: ='S1 M1 DEUE Maquette'!I26*1.5 -> 30 | AB11: =#REF!*1.5 -> #REF! | AC11: =#REF!*1.5 -> #REF! | AD11: =#REF!*1.5 -> #REF!
AA12: ='S1 M1 DEUE Maquette'!I27*1.5 -> 30 | AB12: =#REF!*1.5 -> #REF! | AC12: =#REF!*1.5 -> #REF! | AD12: =#REF!*1.5 -> #REF!
AA13: ='S1 M1 DEUE Maquette'!I28*1.5 -> 0 | AB13: =#REF!*1.5 -> #REF! | AC13: =#REF!*1.5 -> #REF! | AD13: =#REF!*1.5 -> #REF!
A14: Heure Porté par la maquette | N14: Mutualisation Porteuse | AA14: ='S1 M1 DEUE Maquette'!I29*1.5 -> 30 | AB14: =#REF!*1.5 -> #REF! | AC14: =#REF!*1.5 -> #REF! | AD14: =#REF!*1.5 -> #REF!
AA15: ='S1 M1 DEUE Maquette'!I30*1.5 -> 45 | AB15: =#REF!*1.5 -> #REF! | AC15: =#REF!*1.5 -> #REF! | AD15: =#REF!*1.5 -> #REF!
A16: Semestre 1 | D16: Semestre 2 | G16: Semestre 3 | J16: Semestre 4 | N16: Semestre 1 | Q16: Semestre 2 | T16: Semestre 3 | W16: Semestre 4 | AA16: ='S1 M1 DEUE Maquette'!I31*1.5 -> 30 | AB16: =#REF!*1.5 -> #REF! | AC16: =#REF!*1.5 -> #REF! | AD16: =#REF!*1.5 -> #REF!
A17: Heure CM | B17: Heure TD | C17: Heure TP | D17: Heure CM | E17: Heure TD | F17: Heure TP | G17: Heure CM | H17: Heure TD | I17: Heure TP | J17: Heure CM | K17: Heure TD | L17: Heure TP | N17: Heure CM | O17: Heure TD | P17: Heure TP | Q17: Heure CM | R17: Heure TD | S17: Heure TP | T17: Heure CM | U17: Heure TD | V17: Heure TP | W17: Heure CM | X17: Heure TD | Y17: Heure TP | AA17: ='S1 M1 DEUE Maquette'!I32*1.5 -> 0 | AB17: =#REF!*1.5 -> #REF! | AC17: =#REF!*1.5 -> #REF! | AD17: =#REF!*1.5 -> #REF!
A18: =A5-N18 -> 240 | B18: =B5-O18 -> 50 | C18: =C5-P18 -> 0 | D18: =D5-Q18 -> #REF! | E18: =E5-R18 -> #REF! | F18: =F5-S18 -> #REF! | G18: =G5-T18 -> #REF! | H18: =H5-U18 -> #REF! | ... L18: =L5-Y18 -> #REF! | N18: =SUMIF('S1 M1 DEUE Maquette'!M19:M300,"Portée",'S1 M1 DEUE Maquette'!I19:I300)*1.5 -> 45 | O18: =SUMIF('S1 M1 DEUE Maquette'!M19:M300,"Portée",'S1 M1 DEUE Maquette'!J19:J300) -> 15 | P18: =SUMIF('S1 M1 DEUE Maquette'!M19:M300,"Portée",'S1 M1 DEUE Maquette'!K19:K300) -> 0 | Q18: =SUMIF(#REF!,"Portée",#REF!)*1.5 -> #REF! | R18: =SUMIF(#REF!,"Portée",#REF!) -> #REF! | S18: =SUMIF(#REF!,"Portée",#REF!) -> #REF! | T18: =SUMIF(#REF!,"Portée",#REF!)*1.5 -> #REF! | U18: =SUMIF(#REF!,"Portée",#REF!) -> #REF! | V18: =SUMIF(#REF!,"Portée",#REF!) -> #REF! | W18: =SUMIF(#REF!,"Portée",#REF!)*1.5 -> #REF! | X18: =SUMIF(#REF!,"Portée",#REF!) -> #REF! | Y18: =SUMIF(#REF!,"Portée",#REF!) -> #REF! | AA18: ='S1 M1 DEUE Maquette'!I33*1.5 -> 30 | AB18: =#REF!*1.5 -> #REF! | AC18: =#REF!*1.5 -> #REF! | AD18: =#REF!*1.5 -> #REF!
A19: Total | D19: Total | G19: Total | J19: Total | AA19: ='S1 M1 DEUE Maquette'!I34*1.5 -> 0 | AB19: =#REF!*1.5 -> #REF! | AC19: =#REF!*1.5 -> #REF! | AD19: =#REF!*1.5 -> #REF!
A20: =SUM(A18,B18,C18) -> 290 | D20: =SUM(D18,E18,F18) -> #REF! | G20: =SUM(G18,H18,I18) -> #REF! | J20: =SUM(J18,K18,L18) -> #REF! | AA20: ='S1 M1 DEUE Maquette'!I35*1.5 -> 0 | AB20: =#REF!*1.5 -> #REF! | AC20: =#REF!*1.5 -> #REF! | AD20: =#REF!*1.5 -> #REF!
A21: Total | G21: Total | AA21: ='S1 M1 DEUE Maquette'!I36*1.5 -> 0 | AB21: =#REF!*1.5 -> #REF! | AC21: =#REF!*1.5 -> #REF! | AD21: =#REF!*1.5 -> #REF!
A22: =SUM(A20,D20) -> #REF! | G22: =SUM(G20,J20) -> #REF! | AA22: ='S1 M1 DEUE Maquette'!I37*1.5 -> 0 | AB22: =#REF!*1.5 -> #REF! | AC22: =#REF!*1.5 -> #REF! | AD22: =#REF!*1.5 -> #REF!
AA23: ='S1 M1 DEUE Maquette'!I38*1.5 -> 0 | AB23: =#REF!*1.5 -> #REF! | AC23: =#REF!*1.5 -> #REF! | AD23: =#REF!*1.5 -> #REF!
AA24: ='S1 M1 DEUE Maquette'!I39*1.5 -> 0 | AB24: =#REF!*1.5 -> #REF! | AC24: =#REF!*1.5 -> #REF! | AD24: =#REF!*1.5 -> #REF!
AA25: ='S1 M1 DEUE Maquette'!I40*1.5 -> 0 | AB25: =#REF!*1.5 -> #REF! | AC25: =#REF!*1.5 -> #REF! | AD25: =#REF!*1.5 -> #REF!
AA26: ='S1 M1 DEUE Maquette'!I41*1.5 -> 0 | AB26: =#REF!*1.5 -> #REF! | AC26: =#REF!*1.5 -> #REF! | AD26: =#REF!*1.5 -> #REF!
AA27: ='S1 M1 DEUE Maquette'!I42*1.5 -> 0 | AB27: =#REF!*1.5 -> #REF! | AC27: =#REF!*1.5 -> #REF! | AD27: =#REF!*1.5 -> #REF!
AA28: ='S1 M1 DEUE Maquette'!I43*1.5 -> 0 | AB28: =#REF!*1.5 -> #REF! | AC28: =#REF!*1.5 -> #REF! | AD28: =#REF!*1.5 -> #REF!
AA29: ='S1 M1 DEUE Maquette'!I44*1.5 -> 0 | AB29: =#REF!*1.5 -> #REF! | AC29: =#REF!*1.5 -> #REF! | AD29: =#REF!*1.5 -> #REF!
AA30: ='S1 M1 DEUE Maquette'!I45*1.5 -> 0 | AB30: =#REF!*1.5 -> #REF! | AC30: =#REF!*1.5 -> #REF! | AD30: =#REF!*1.5 -> #REF!
AA31: ='S1 M1 DEUE Maquette'!I46*1.5 -> 0 | AB31: =#REF!*1.5 -> #REF! | AC31: =#REF!*1.5 -> #REF! | AD31: =#REF!*1.5 -> #REF!
AA32: ='S1 M1 DEUE Maquette'!I47*1.5 -> 0 | AB32: =#REF!*1.5 -> #REF! | AC32: =#REF!*1.5 -> #REF! | AD32: =#REF!*1.5 -> #REF!
AA33: ='S1 M1 DEUE Maquette'!I48*1.5 -> 0 | AB33: =#REF!*1.5 -> #REF! | AC33: =#REF!*1.5 -> #REF! | AD33: =#REF!*1.5 -> #REF!
AA34: ='S1 M1 DEUE Maquette'!I49*1.5 -> 0 | AB34: =#REF!*1.5 -> #REF! | AC34: =#REF!*1.5 -> #REF! | AD34: =#REF!*1.5 -> #REF!
... AA291: ='S1 M1 DEUE Maquette'!I306*1.5 -> 0 | AB291: =#REF!*1.5 -> #REF! | AC291: =#REF!*1.5 -> #REF! | AD291: =#REF!*1.5 -> #REF!

Sheet Fiche Générale
A1: Type Diplôme : Master M1 & M2
A2: COMPOSANTE | B2: IDPD
A3: MENTION | B3: Droit international et européen
A4: CODE DIPLÔME | B4: XMDIE24
A5: Session M1 | B5: Session Unique
A6: Session M2 | B6: Session Unique
A7: Régime d'inscription | B7: Initiale Hors-Apprentissage / Formation Continue / Formation Permanente | C7: Contrat d'Apprentissage/ Contrat de Professionnalisation
A11: Parcours Type en Master 1 | C11: Parcours Type en Master 2
A12: Parcours Type | B12: Droit européen de l'Union européenne
A14: Heures Maquette Année 1 | B14: Heures Valorisées Année 1 | C14: Heures Maquette Année 2 | D14: Heures Valorisées Année 2
A16: =Calcul!A10 -> #REF! | B16: =Calcul!A22 -> #REF! | C16: =Calcul!G10 -> #REF! | D16: =Calcul!G22 -> #REF!
A21: COMPENSATION
A22: Les MCC déterminent le mode de compensation entre UE, semestre et année ainsi que la possibilité d’une note éliminatoire.
A23: Obtention des UE
A24: Compensation entre les ECUE de chaque UE
A27: Obtention du Semestre
A28: Compensation entre les UE de chaque semestre
A31: Obtention de l'Année
A32: Compensation entre les deux semestres de chaque année du Master. Pas de compensation entre les deux années de Master.
A35: Note éliminatoire/ Note seuil
A36: Note éliminatoire pour l'UE PPR du semestre 4 : 7/20
A39: REDOUBLEMENT
A40: Redoublement possible, sans condition pour la première année de Master, et sur autorisation du Conseil pédagogique de la formation pour la seconde année du Master.
... A44: Arrêté du 22 janvier 2014 fixant le cadre national des formations conduisant à la délivrance des diplômes nationaux de licence, de licence professionnelle et de master

Sheet S1 M1 DEUE Maquette
A7: Composante | B7: ='Fiche Générale'!B2 -> IDPD | C7: Diplôme | E7: ='Fiche Générale'!B3 -> Droit international et européen | G7: Code diplôme | H7: ='Fiche Générale'!B4 -> XMDIE24
C10: Parcours type | E10: ='Fiche Générale'!B12 -> Droit européen de l'Union européenne
A13: Année | B13: 1ère année | C13: Code année | E13: XMDIE1 | G13: Heures Maquette | H13: =Calcul!A7 -> 350
A15: Semestre | B15: Semestre 1 | C15: Code semestre | E15: XMS1DIE | G15: Heures Valorisées | H15: =Calcul!A20 -> 290
A18: Niveau | B18: Libellé ELP | C18: Nature ELP | D18: ECTS | E18: Type | F18: Statut | G18: Code Apogée | H18: CNU | I18: Heure CM | J18: Heure TD | K18: Heure TP | L18: Langues | M18: Mutualisation | N18: Formation Porteuse | O18: Observations / Remarques ex: Intervention à titre gracieux / Capacité d'accueil max
A19: UE1 | B19: Droit international privé | C19: UE | D19: 6 | G19: XMUDIP1 | H19: 01-Droit privé et sciences criminelles
B20: Droit international privé CM | C20: ECUE | G20: DMEDIC88 | H20: 01-Droit privé et sciences criminelles | I20: 30 | M20: Portée | N20: Master 1 Droit des affaires
B21: Droit international privé TD | C21: ECUE | G21: DMEDIT88 | H21: 01-Droit privé et sciences criminelles | J21: 15 | M21: Portée | N21: Master 1 Droit des affaires
A22: UE2 | B22: Contentieux de l'Union européenne | C22: UE | D22: 6 | G22: XMUCUE1 | H22: 02-Droit public
B23: Contentieux de l’Union européenne | C23: ECUE | G23: XMECUE11 | H23: 02-Droit public | I23: 30 | M23: Porteuse
B24: Contentieux de l’Union européenne | C24: ECUE | G24: XMECUE12 | H24: 02-Droit public | J24: 15 | M24: Porteuse
A25: UE3 | B25: Droit international public | C25: UE | D25: 6 | G25: XMUDPB1 | H25: 02-Droit public
B26: Droit de la responsabilité internationale | C26: ECUE | G26: XMEDRI1 | H26: 02-Droit public | I26: 20
B27: Droit des organisations internationales | C27: ECUE | G27: XMEDOI1 | H27: 02-Droit public | I27: 20 | M27: Porteuse
A28: UE4 | B28: Spécialisation | C28: UE | D28: 6 | G28: XMUSPE1 | H28: 02-Droit public
B29: Droit international des espaces | C29: ECUE | G29: XMEDES1 | H29: 02-Droit public | I29: 20
B30: Droit des relations extérieures de l’Union européenne | C30: ECUE | G30: XMEDRE1 | H30: 02-Droit public | I30: 30
B31: Droit international et européen du numérique | C31: ECUE | G31: XMEDNU1 | H31: 02-Droit public | I31: 20
A32: UE5 | B32: PPR1 | C32: UE | D32: 6 | G32: XMUPPRS1 | H32: 02-Droit public
B33: Droit du contentieux international | C33: ECUE | G33: XMEDCI1 | H33: 02-Droit public | I33: 20
B34: Anglais juridique | C34: ECUE | G34: XMEANG1 | H34: 02-Droit public | J34: 15
B35: Méthode de la recherche juridique | C35: ECUE | G35: XMEMRJ1 | H35: 02-Droit public | J35: 20
