Workbook
Name CREATES: Listes!$F$12:$F$19
Name CREATES_Antenne: Listes!$C$26
Name DS4H: Listes!$I$12:$I$14
Name DS4H_Antenne: Listes!$E$26:$E$27
Name ELMI: Listes!$E$12:$E$19
Name ELMI_Antenne: Listes!$B$26:$B$27
Name HEALTHY: Listes!$L$12:$L$16
Name HEALTHY_Antenne: Listes!$G$26:$G$29
Name IAE: Listes!$C$12:$C$18
Name IDPD: Listes!$D$12
Name INSPE: Listes!$B$12:$B$15
Name LEXSOCIETE: Listes!$A$12:$A$17
Name LEXSOCIETE_Antenne: Listes!$A$26
Name LIFE: Listes!$K$12
Name list_cmp: Listes!$A$11:$L$11
Name List_CNU: Listes!$C$36:$C$92
Name List_Controle: Listes!$B$2:$B$6
Name List_Controle2: Listes!$A$2:$A$4
Name List_Mutualisation: Listes!$E$2:$E$3
Name List_NatureELP: Listes!$D$2:$D$6
Name List_RegimeInscription: Listes!$C$2:$C$3
Name List_Statut: Listes!$F$2:$F$4
Name List_Type: Listes!$G$2:$G$4
Name liste_cmp: #REF!
Name liste_cmp: #REF!
Name liste_cmp: #REF!
Name liste_cmp: #REF!
Name liste_cmp: #REF!
Name liste_cmp: #REF!
Name liste_cmp: #REF!
Name liste_mention: #REF!
Name liste_mention: #REF!
Name liste_mention: #REF!
Name liste_mention: #REF!
Name liste_mention: #REF!
Name liste_mention: #REF!
Name liste_mention: #REF!
Name Médecine: #REF!
Name Médecine: #REF!
Name Médecine: #REF!
Name Médecine: #REF!
Name Médecine: #REF!
Name Médecine: #REF!
Name Médecine: #REF!
Name ODYSSEE: Listes!$G$12:$G$22
Name ODYSSEE_Antenne: Listes!$D$26:$D$29
Name POLYTECH_SOPHIA: Listes!$G$12:$G$13
Name Por: #REF!
Name Por: #REF!
Name Por: #REF!
Name Por: #REF!
Name Por: #REF!
Name Por: #REF!
Name Por: #REF!
Name Portail_Droit: #REF!
Name Portail_Droit: #REF!
Name Portail_Droit: #REF!
Name Portail_Droit: #REF!
Name Portail_EG: #REF!
Name Portail_EG: #REF!

Sheet Listes
A1: Type contrôle | B1: Nature contrôle | C1: Régime d'inscription | D1: Nature ELP | E1: Mutualisation | F1: Statut | G1: Type | O1: Mention | P1: Codage Diplôme
A2: CCI (CC Intégral) | B2: Écrit | C2: Initiale Hors-Apprentissage / Formation Continue / Formation Permanente | D2: UE | E2: Porteuse | F2: Création | G2: Obligatoire | O2: STAPS: Activité physique adaptée et santé | P2: PMAPA18
A3: CT (Contrôle terminal) | B3: Oral | C3: Contrat d'Apprentissage/ Contrat de Professionnalisation | D3: ECUE | E3: Portée | F3: Modification | G3: Facultatif | O3: STAPS: Entrainement et optimisation de la performance sportive | P3: PMEOS18
A4: CC&CT | B4: Écrit/Pratique | D4: BLOC | F4: Fermeture | G4: Complémentaire | O4: Sciences du vivant | P4: SMVIE18
B5: Rapport/Mémoire | D5: OPTION | O5: Ingénierie de la santé | P5: MMISA18
B6: Pratique sportive | D6: Parcours Pédagogique | O6: Ingénierie de la santé | P6: SMISA18
O7: Economie | P7: IMECO18
O8: Innovation, entreprise et société | P8: IMIES18
O9: Monnaie, banque, finance, assurance | P9: IMMBF18
O10: Gestion des ressources humaines | P10: IMGRH18
A11: LEXSOCIETE | B11: INSPE | C11: IAE | D11: IDPD | E11: ELMI | F11: CREATES | G11: ODYSSEE | H11: POLYTECH SOPHIA | I11: DS4H | J11: SPECTRUM | K11: LIFE | L11: HEALTHY | O11: Economie des organisations | P11: IMEOR18
A12: Administration et liquidation d'entreprises en difficulté | B12: Métiers de l'enseignement de l'éducation et de la formation (MEEF), 1er degré | C12: Management et commerce international | D12: Droit international et européen | E12: Innovation, entreprise et société | F12: Français Langue Etrangère (FLE) | G12: Civilisations, cultures et sociétés | H12: Informatique | I12: Informatique | J12: Mathématiques et applications | K12: Sciences du vivant | L12: STAPS: Activité physique adaptée et santé | O12: Management et commerce international | P12: IMMCI18
A13: Droit public | B13: Métiers de l'enseignement de l'éducation et de la formation (MEEF), pratiques et ingénierie de la formation | C13: Gestion de patrimoine | E13: Monnaie, banque, finance, assurance | F13: Arts | G13: Sciences sociales | H13: Gestion de l'environnement | I13: Électronique, énergie électrique, automatique | J13: Sciences et génie des matériaux | L13: STAPS: Entrainement et optimisation de la performance sportive | O13: Management et commerce international | P13: GMMCI18
A14: Droit privé | B14: Métiers de l'enseignement de l'éducation et de la formation (MEEF), encadrement éducatif | C14: Comptabilité - contrôle - audit | E14: Gestion des ressources humaines | F14: Humanités et industries créatives | G14: Information, communication | I14: Méthodes informatiques appliquées à la gestion des entreprises | J14: Chimie moléculaire | L14: Management du sport | O14: Gestion de patrimoine | P14: GMGDP18
A15: Droit notarial | B15: Métiers de l'enseignement de l'éducation et de la formation (MEEF), 2e degré | C15: Contrôle de gestion et audit organisationnel | E15: Economie des organisations | F15: Langues étrangères appliquées (LEA) | G15: Pyschologie | J15: Gestion de l'environnement | L15: Ingénierie de la santé | O15: Comptabilité - contrôle - audit | P15: GMCCA18
A16: Droit des affaires | C16: Marketing, vente | E16: Management et commerce international | F16: Langues, littératures et civilisations étrangères et régionales (LLCER) | G16: Histoire, civilisation et patrimoine | J16: Physique fondamentale et applications | L16: Psychologie | O16: Contrôle de gestion et audit organisationnel | P16: GMGAO18
A17: Sciences politiques | C17: Management | E17: Tourisme | F17: Lettres | G17: Ville et environnements urbains | J17: Sciences de la Terre et des planètes, environnement | O17: Marketing, vente | P17: GMMKT18
C18: Management et administration des entreprises | E18: Innovation, entreprise et société | F18: Sciences cognitives | G18: Information et médiation scientifique et technique | O18: Management | P18: GMMGT18
E19: Economie | F19: Sciences du langage | G19: Sciences Politiques | O19: Tourisme | P19: IMTOU18
G20: Droit International et droit européen | O20: Management et administration des entreprises | P20: GMMAE18
G21: Sciences de la terre et des planètes, environnement | O21: Administration et liquidation d'entreprises en difficulté | P21: DMLED18
G22: Gestion de l'environnement | O22: Droit public | P22: DMPUB18
O23: Droit privé | P23: DMDPR18
A24: _Antenne | O24: Droit notarial | P24: DMNOT18
A25: LEXSOCIETE_Antenne | B25: ELMI_Antenne | C25: CREATES_Antenne | D25: ODYSSEE_Antenne | E25: DS4H_Antenne | F25: SPECTRUM_Antenne | G25: HEALTHY_Antenne | O25: Droit des affaires | P25: DMAFF18
A26: IMREDD | B26: SOPHIA | C26: GEORGES MELIES | D26: SJA | E26: TROTABAS | F26: GRASSE | G26: CARLONE | O26: Science politique | P26: DMSPO18
B27: TROTABAS | D27: TROTABAS | E27: VALROSE | F27: SOPHIA | G27: PASTEUR | O27: Droit international et européen | P27: XMDIE18
D28: VALROSE | F28: IMREDD | G28: SJA | O28: Métiers de l'enseignement de l'éducation et de la formation (MEEF), 1er degré | P28: VMM1D18
D29: IMREDD | G29: VALROSE | O29: Métiers de l'enseignement de l'éducation et de la formation (MEEF), pratiques et ingénierie de la formation | P29: VMPIF18
O30: Métiers de l'enseignement de l'éducation et de la formation (MEEF), encadrement éducatif | P30: VMMEE18
O31: Métiers de l'enseignement de l'éducation et de la formation (MEEF), 2e degré | P31: VMM2D18
O32: Français Langue Etrangère (FLE) | P32: HMFLE18
O33: Arts | P33: HMARS18
O34: Humanités et industries créatives | P34: HMUIC18
C35: CNU | O35: Information, communication | P35: HMICO18
C36: 01-Droit privé et sciences criminelles | O36: Langues étrangères appliquées (LEA) | P36: HMEAP18
C37: 02-Droit public | O37: Langues, littératures et civilisations étrangères et régionales (LLCER) | P37: HMCER18
C38: 03-Histoire du droit et des institutions | O38: Lettres | P38: HMLET18
C39: 04-Science politique | O39: Civilisations, cultures et sociétés | P39: HMVCS18
C40: 05-Sciences économiques | O40: Psychologie | P40: HMPSY18
...

Sheet Calcul
A1: Heure Pédagogique | AA1: Heure CM
A3: Semestre 1 | D3: Semestre 2 | G3: Semestre 3 | J3: Semestre 4 | AA3: Semestre 1 | AB3: Semestre 2 | AC3: Semestre 3 | AD3: Semestre 4
A4: Heure CM | B4: Heure TD | C4: Heure TP | D4: Heure CM | E4: Heure TD | F4: Heure TP | G4: Heure CM | H4: Heure TD | I4: Heure TP | J4: Heure CM | K4: Heure TD | L4: Heure TP | AA4: ='S1 M1 SIDIE Maquette'!I19*1.5 -> 0 | AB4: ='S2 M1 SIDIE Maquette'!I19*1.5 -> 0 | AC4: ='S3 M1 SIDIE Maquette'!I19*1.5 -> 0 | AD4: ='S4 M1 SIDIE Maquette'!I19*1.5 -> 0
A5: =SUM(AA4:AA291) -> 285 | B5: =SUM('S1 M1 SIDIE Maquette'!J19:J300) -> 65 | C5: =SUM('S1 M1 SIDIE Maquette'!K19:K300) -> 0 | D5: =SUM(AB4:AB291) -> 225 | E5: =SUM('S2 M1 SIDIE Maquette'!J19:J300) -> 68 | F5: =SUM('S2 M1 SIDIE Maquette'!K19:K300) -> 0 | G5: =SUM(AC4:AC291) -> 202.5 | H5: =SUM('S3 M1 SIDIE Maquette'!J19:J300) -> 0 | I5: =SUM('S3 M1 SIDIE Maquette'!K19:K300) -> 0 | J5: =SUM(AD4:AD291) -> 150 | K5: =SUM('S4 M1 SIDIE Maquette'!J19:J300) -> 15 | L5: =SUM('S4 M1 SIDIE Maquette'!K19:K300) -> 0 | AA5: ='S1 M1 SIDIE Maquette'!I20*1.5 -> 45 | AB5: ='S2 M1 SIDIE Maquette'!I20*1.5 -> 45 | AC5: ='S3 M1 SIDIE Maquette'!I20*1.5 -> 22.5 | AD5: ='S4 M1 SIDIE Maquette'!I20*1.5 -> 30
A6: Total | D6: Total | G6: Total | J6: Total | AA6: ='S1 M1 SIDIE Maquette'!I21*1.5 -> 0 | AB6: ='S2 M1 SIDIE Maquette'!I21*1.5 -> 0 | AC6: ='S3 M1 SIDIE Maquette'!I21*1.5 -> 22.5 | AD6: ='S4 M1 SIDIE Maquette'!I21*1.5 -> 30
A7: =SUM(A5,B5,C5) -> 350 | D7: =SUM(D5,E5,F5) -> 293 | G7: =SUM(G5,H5,I5) -> 202.5 | J7: =SUM(J5,K5,L5) -> 165 | AA7: ='S1 M1 SIDIE Maquette'!I22*1.5 -> 0 | AB7: ='S2 M1 SIDIE Maquette'!I22*1.5 -> 0 | AC7: ='S3 M1 SIDIE Maquette'!I22*1.5 -> 0 | AD7: ='S4 M1 SIDIE Maquette'!I22*1.5 -> 0
A8: Total | G8: Total | AA8: ='S1 M1 SIDIE Maquette'!I23*1.5 -> 45 | AB8: ='S2 M1 SIDIE Maquette'!I23*1.5 -> 45 | AC8: ='S3 M1 SIDIE Maquette'!I23*1.5 -> 37.5 | AD8: ='S4 M1 SIDIE Maquette'!I23*1.5 -> 30
AA9: ='S1 M1 SIDIE Maquette'!I24*1.5 -> 0 | AB9: ='S2 M1 SIDIE Maquette'!I24*1.5 -> 30 | AC9: ='S3 M1 SIDIE Maquette'!I24*1.5 -> 0 | AD9: ='S4 M1 SIDIE Maquette'!I24*1.5 -> 0
A10: =SUM(A7,D7) -> 643 | G10: =SUM(G7,J7) -> 367.5 | AA10: ='S1 M1 SIDIE Maquette'!I25*1.5 -> 0 | AB10: ='S2 M1 SIDIE Maquette'!I25*1.5 -> 0 | AC10: ='S3 M1 SIDIE Maquette'!I25*1.5 -> 22.5 | AD10: ='S4 M1 SIDIE Maquette'!I25*1.5 -> 30
AA11: ='S1 M1 SIDIE Maquette'!I26*1.5 -> 30 | AB11: ='S2 M1 SIDIE Maquette'!I26*1.5 -> 30 | AC11: ='S3 M1 SIDIE Maquette'!I26*1.5 -> 15 | AD11: ='S4 M1 SIDIE Maquette'!I26*1.5 -> 30
AA12: ='S1 M1 SIDIE Maquette'!I27*1.5 -> 30 | AB12: ='S2 M1 SIDIE Maquette'!I27*1.5 -> 45 | AC12: ='S3 M1 SIDIE Maquette'!I27*1.5 -> 0 | AD12: ='S4 M1 SIDIE Maquette'!I27*1.5 -> 0
AA13: ='S1 M1 SIDIE Maquette'!I28*1.5 -> 0 | AB13: ='S2 M1 SIDIE Maquette'!I28*1.5 -> 30 | AC13: ='S3 M1 SIDIE Maquette'!I28*1.5 -> 30 | AD13: ='S4 M1 SIDIE Maquette'!I28*1.5 -> 0
A14: Heure Porté par la maquette | N14: Mutualisation Porteuse | AA14: ='S1 M1 SIDIE Maquette'!I29*1.5 -> 30 | AB14: ='S2 M1 SIDIE Maquette'!I29*1.5 -> 0 | AC14: ='S3 M1 SIDIE Maquette'!I29*1.5 -> 30 | AD14: ='S4 M1 SIDIE Maquette'!I29*1.5 -> 0
AA15: ='S1 M1 SIDIE Maquette'!I30*1.5 -> 45 | AB15: ='S2 M1 SIDIE Maquette'!I30*1.5 -> 0 | AC15: ='S3 M1 SIDIE Maquette'!I30*1.5 -> 0 | AD15: ='S4 M1 SIDIE Maquette'!I30*1.5 -> 0
A16: Semestre 1 | D16: Semestre 2 | G16: Semestre 3 | J16: Semestre 4 | N16: Semestre 1 | Q16: Semestre 2 | T16: Semestre 3 | W16: Semestre 4 | AA16: ='S1 M1 SIDIE Maquette'!I31*1.5 -> 30 | AB16: ='S2 M1 SIDIE Maquette'!I31*1.5 -> 0 | AC16: ='S3 M1 SIDIE Maquette'!I31*1.5 -> 15 | AD16: ='S4 M1 SIDIE Maquette'!I31*1.5 -> 0
A17: Heure CM | B17: Heure TD | C17: Heure TP | D17: Heure CM | E17: Heure TD | F17: Heure TP | G17: Heure CM | H17: Heure TD | I17: Heure TP | J17: Heure CM | K17: Heure TD | L17: Heure TP | N17: Heure CM | O17: Heure TD | P17: Heure TP | Q17: Heure CM | R17: Heure TD | S17: Heure TP | T17: Heure CM | U17: Heure TD | V17: Heure TP | W17: Heure CM | X17: Heure TD | Y17: Heure TP | AA17: ='S1 M1 SIDIE Maquette'!I32*1.5 -> 0 | AB17: ='S2 M1 SIDIE Maquette'!I32*1.5 -> 0 | AC17: ='S3 M1 SIDIE Maquette'!I32*1.5 -> 7.5 | AD17: ='S4 M1 SIDIE Maquette'!I32*1.5 -> 0
A18: =A5-N18 -> 240 | B18: =B5-O18 -> 50 | C18: =C5-P18 -> 0 | D18: =D5-Q18 -> 225 | E18: =E5-R18 -> 68 | F18: =F5-S18 -> 0 | G18: =G5-T18 -> 202.5 | H18: =H5-U18 -> 0 | ... L18: =L5-Y18 -> 0 | N18: =SUMIF('S1 M1 SIDIE Maquette'!M19:M300,"Portée",'S1 M1 SIDIE Maquette'!I19:I300)*1.5 -> 45 | O18: =SUMIF('S1 M1 SIDIE Maquette'!M19:M300,"Portée",'S1 M1 SIDIE Maquette'!J19:J300) -> 15 | P18: =SUMIF('S1 M1 SIDIE Maquette'!M19:M300,"Portée",'S1 M1 SIDIE Maquette'!K19:K300) -> 0 | Q18: =SUMIF('S2 M1 SIDIE Maquette'!M19:M300,"Portée",'S2 M1 SIDIE Maquette'!I19:I300)*1.5 -> 0 | R18: =SUMIF('S2 M1 SIDIE Maquette'!M19:M300,"Portée",'S2 M1 SIDIE Maquette'!J19:J300) -> 0 | S18: =SUMIF('S2 M1 SIDIE Maquette'!M9:M300,"Portée",'S2 M1 SIDIE Maquette'!K19:K300) -> 0 | T18: =SUMIF('S3 M1 SIDIE Maquette'!M19:M300,"Portée",'S3 M1 SIDIE Maquette'!I19:I300)*1.5 -> 0 | U18: =SUMIF('S3 M1 SIDIE Maquette'!M19:M300,"Portée",'S3 M1 SIDIE Maquette'!J19:J300) -> 0 | V18: =SUMIF('S3 M1 SIDIE Maquette'!M19:M300,"Portée",'S3 M1 SIDIE Maquette'!K19:K300) -> 0 | W18: =SUMIF('S4 M1 SIDIE Maquette'!M19:M300,"Portée",'S4 M1 SIDIE Maquette'!I19:I300)*1.5 -> 30 | X18: =SUMIF('S4 M1 SIDIE Maquette'!M19:M300,"Portée",'S4 M1 SIDIE Maquette'!J19:J300) -> 0 | Y18: =SUMIF('S4 M1 SIDIE Maquette'!M19:M300,"Portée",'S4 M1 SIDIE Maquette'!K19:K300) -> 0 | AA18: ='S1 M1 SIDIE Maquette'!I33*1.5 -> 0 | AB18: ='S2 M1 SIDIE Maquette'!I33*1.5 -> 0 | AC18: ='S3 M1 SIDIE Maquette'!I33*1.5 -> 0 | AD18: ='S4 M1 SIDIE Maquette'!I33*1.5 -> 0
A19: Total | D19: Total | G19: Total | J19: Total | AA19: ='S1 M1 SIDIE Maquette'!I34*1.5 -> 30 | AB19: ='S2 M1 SIDIE Maquette'!I34*1.5 -> 0 | AC19: ='S3 M1 SIDIE Maquette'!I34*1.5 -> 0 | AD19: ='S4 M1 SIDIE Maquette'!I34*1.5 -> 0
A20: =SUM(A18,B18,C18) -> 290 | D20: =SUM(D18,E18,F18) -> 293 | G20: =SUM(G18,H18,I18) -> 202.5 | J20: =SUM(J18,K18,L18) -> 135 | AA20: ='S1 M1 SIDIE Maquette'!I35*1.5 -> 0 | AB20: ='S2 M1 SIDIE Maquette'!I35*1.5 -> 0 | AC20: ='S3 M1 SIDIE Maquette'!I35*1.5 -> 0 | AD20: ='S4 M1 SIDIE Maquette'!I35*1.5 -> 0
A21: Total | G21: Total | AA21: ='S1 M1 SIDIE Maquette'!I36*1.5 -> 0 | AB21: ='S2 M1 SIDIE Maquette'!I36*1.5 -> 0 | AC21: ='S3 M1 SIDIE Maquette'!I36*1.5 -> 0 | AD21: ='S4 M1 SIDIE Maquette'!I36*1.5 -> 0
A22: =SUM(A20,D20) -> 583 | G22: =SUM(G20,J20) -> 337.5 | AA22: ='S1 M1 SIDIE Maquette'!I37*1.5 -> 0 | AB22: ='S2 M1 SIDIE Maquette'!I37*1.5 -> 0 | AC22: ='S3 M1 SIDIE Maquette'!I37*1.5 -> 0 | AD22: ='S4 M1 SIDIE Maquette'!I37*1.5 -> 0
AA23: ='S1 M1 SIDIE Maquette'!I38*1.5 -> 0 | AB23: ='S2 M1 SIDIE Maquette'!I38*1.5 -> 0 | AC23: ='S3 M1 SIDIE Maquette'!I38*1.5 -> 0 | AD23: ='S4 M1 SIDIE Maquette'!I38*1.5 -> 0
AA24: ='S1 M1 SIDIE Maquette'!I39*1.5 -> 0 | AB24: ='S2 M1 SIDIE Maquette'!I39*1.5 -> 0 | AC24: ='S3 M1 SIDIE Maquette'!I39*1.5 -> 0 | AD24: ='S4 M1 SIDIE Maquette'!I39*1.5 -> 0
AA25: ='S1 M1 SIDIE Maquette'!I40*1.5 -> 0 | AB25: ='S2 M1 SIDIE Maquette'!I40*1.5 -> 0 | AC25: ='S3 M1 SIDIE Maquette'!I40*1.5 -> 0 | AD25: ='S4 M1 SIDIE Maquette'!I40*1.5 -> 0
AA26: ='S1 M1 SIDIE Maquette'!I41*1.5 -> 0 | AB26: ='S2 M1 SIDIE Maquette'!I41*1.5 -> 0 | AC26: ='S3 M1 SIDIE Maquette'!I41*1.5 -> 0 | AD26: ='S4 M1 SIDIE Maquette'!I41*1.5 -> 0
AA27: ='S1 M1 SIDIE Maquette'!I42*1.5 -> 0 | AB27: ='S2 M1 SIDIE Maquette'!I42*1.5 -> 0 | AC27: ='S3 M1 SIDIE Maquette'!I42*1.5 -> 0 | AD27: ='S4 M1 SIDIE Maquette'!I42*1.5 -> 0
AA28: ='S1 M1 SIDIE Maquette'!I43*1.5 -> 0 | AB28: ='S2 M1 SIDIE Maquette'!I43*1.5 -> 0 | AC28: ='S3 M1 SIDIE Maquette'!I43*1.5 -> 0 | AD28: ='S4 M1 SIDIE Maquette'!I43*1.5 -> 0
AA29: ='S1 M1 SIDIE Maquette'!I44*1.5 -> 0 | AB29: ='S2 M1 SIDIE Maquette'!I44*1.5 -> 0 | AC29: ='S3 M1 SIDIE Maquette'!I44*1.5 -> 0 | AD29: ='S4 M1 SIDIE Maquette'!I44*1.5 -> 0
AA30: ='S1 M1 SIDIE Maquette'!I45*1.5 -> 0 | AB30: ='S2 M1 SIDIE Maquette'!I45*1.5 -> 0 | AC30: ='S3 M1 SIDIE Maquette'!I45*1.5 -> 0 | AD30: ='S4 M1 SIDIE Maquette'!I45*1.5 -> 0
AA31: ='S1 M1 SIDIE Maquette'!I46*1.5 -> 0 | AB31: ='S2 M1 SIDIE Maquette'!I46*1.5 -> 0 | AC31: ='S3 M1 SIDIE Maquette'!I46*1.5 -> 0 | AD31: ='S4 M1 SIDIE Maquette'!I46*1.5 -> 0
AA32: ='S1 M1 SIDIE Maquette'!I47*1.5 -> 0 | AB32: ='S2 M1 SIDIE Maquette'!I47*1.5 -> 0 | AC32: ='S3 M1 SIDIE Maquette'!I47*1.5 -> 0 | AD32: ='S4 M1 SIDIE Maquette'!I47*1.5 -> 0
AA33: ='S1 M1 SIDIE Maquette'!I48*1.5 -> 0 | AB33: ='S2 M1 SIDIE Maquette'!I48*1.5 -> 0 | AC33: ='S3 M1 SIDIE Maquette'!I48*1.5 -> 0 | AD33: ='S4 M1 SIDIE Maquette'!I48*1.5 -> 0
AA34: ='S1 M1 SIDIE Maquette'!I49*1.5 -> 0 | AB34: ='S2 M1 SIDIE Maquette'!I49*1.5 -> 0 | AC34: ='S3 M1 SIDIE Maquette'!I49*1.5 -> 0 | AD34: ='S4 M1 SIDIE Maquette'!I49*1.5 -> 0
... AA291: ='S1 M1 SIDIE Maquette'!I306*1.5 -> 0 | AB291: ='S2 M1 SIDIE Maquette'!I306*1.5 -> 0 | AC291: ='S3 M1 SIDIE Maquette'!I306*1.5 -> 0 | AD291: ='S4 M1 SIDIE Maquette'!I306*1.5 -> 0

Sheet Fiche Générale
A1: Type Diplôme : Master M1 & M2
A2: COMPOSANTE | B2: IDPD
A3: MENTION | B3: Droit international et européen
A4: CODE DIPLÔME | B4: XMDIE24
A5: Session M1 | B5: Session Unique
A6: Session M2 | B6: Session Unique
A7: Régime d'inscription | B7: Initiale Hors-Apprentissage / Formation Continue / Formation Permanente | C7: Contrat d'Apprentissage/ Contrat de Professionnalisation
A11: Parcours Type en Master
A12: Parcours Type | B12: Sécurité Internationale, Défense, Intelligence Economique
A14: Heures Maquette Année 1 | B14: Heures Valorisées Année 1 | C14: Heures Maquette Année 2 | D14: Heures Valorisées Année 2
A16: =Calcul!A10 -> 643 | B16: =Calcul!A22 -> 583 | C16: =Calcul!G10 -> 367.5 | D16: =Calcul!G22 -> 337.5
A21: COMPENSATION
A22: Les MCC déterminent le mode de compensation entre UE, semestre et année ainsi que la possibilité d’une note éliminatoire.
A23: Obtention des UE
A24: Compensation entre les ECUE de chaque UE
A27: Obtention du Semestre
A28: Compensation entre les UE de chaque semestre
A31: Obtention de l'Année
A32: Compensation entre les deux semestres de chaque année du Master. Pas de compensation entre les deux années de Master.
A35: Note éliminatoire/ Note seuil
A36: Note éliminatoire pour l'UE PPR du semestre 4 : 7/20. L'étudiants est tenu à une stricte assiduité aux enseignements en présentiel et à distance, aux conférences, aux séquences de mise en situation professionnelle. L’étudiant est tenu de justifier son absence, par tous moyens, auprès du service de la scolarité dans un délai de 5 jours ouvrés. Dans la limite d'une absence injustifiée tolérée, chaque absence injustifiée sera sanctionnée d'un malus de 0.25 point sur la moyenne semestrielle (barème /20).
A39: REDOUBLEMENT
A40: Redoublement possible, sans condition pour la première année de Master, et sur autorisation du Conseil pédagogique de la formation pour la seconde année du Master.
... A44: Arrêté du 22 janvier 2014 fixant le cadre national des formations conduisant à la délivrance des diplômes nationaux de licence, de licence professionnelle et de master

Sheet S1 M1 SIDIE Maquette
A7: Composante | B7: ='Fiche Générale'!B2 -> IDPD | C7: Diplôme | E7: ='Fiche Générale'!B3 -> Droit international et européen | G7: Code diplôme | H7: ='Fiche Générale'!B4 -> XMDIE24
C10: Parcours type | E10: ='Fiche Générale'!B12 -> Sécurité Internationale, Défense, Intelligence Economique
A13: Année | B13: 1ère année | C13: Code année | E13: XMDIE1 | G13: Heures Maquette | H13: =Calcul!A7 -> 350
A15: Semestre | B15: Semestre 1 | C15: Code semestre | E15: XMS01DIE | G15: Heures Valorisées | H15: =Calcul!A20 -> 290
A18: Niveau | B18: Libellé ELP | C18: Nature ELP | D18: ECTS | E18: Type | F18: Statut | G18: Code Apogée | H18: CNU | I18: Heure CM | J18: Heure TD | K18: Heure TP | L18: Langues | M18: Mutualisation | N18: Formation Porteuse | O18: Observations / Remarques ex: Intervention à titre gracieux / Capacité d'accueil max
A19: UE1 | B19: Droit international privé | C19: UE | D19: 6 | G19: XMUDIP1 | H19: 01-Droit privé et sciences criminelles
B20: Droit international privé CM | C20: ECUE | G20: DMEDIC88 | H20: 01-Droit privé et sciences criminelles | I20: 30 | M20: Portée | N20: Master 1 Droit des affaires
B21: Droit international privé TD | C21: ECUE | G21: DMEDIT88 | H21: 01-Droit privé et sciences criminelles | J21: 15 | M21: Portée | N21: Master 1 Droit des affaires
A22: UE2 | B22: Contentieux de l'Union européenne | C22: UE | D22: 6 | G22: XMUCUE1 | H22: 02-Droit public
B23: Contentieux de l’Union européenne | C23: ECUE | G23: XMECUE11 | H23: 02-Droit public | I23: 30 | M23: Porteuse
B24: Contentieux de l’Union européenne | C24: ECUE | G24: XMECUE12 | H24: 02-Droit public | J24: 15 | M24: Porteuse
A25: UE3 | B25: Droit international public | C25: UE | D25: 6 | G25: XMUDPB1 | H25: 02-Droit public
B26: Droit de la responsabilité internationale | C26: ECUE | G26: XMEDRI1 | H26: 02-Droit public | I26: 20
B27: Droit des organisations internationales | C27: ECUE | G27: XMEDOI1 | H27: 02-Droit public | I27: 20 | M27: Porteuse
A28: UE4 | B28: Spécialisation | C28: UE | D28: 6 | G28: XMUSPE1 | H28: 02-Droit public
B29: Droit international des espaces | C29: ECUE | G29: XMEDES1 | H29: 02-Droit public | I29: 20
B30: Droit des relations extérieures de l’Union européenne | C30: ECUE | G30: XMUDRE1 | H30: 02-Droit public | I30: 30
B31: Droit international et européen du numérique | C31: ECUE | G31: XMEDNU1 | H31: 02-Droit public | I31: 20
A33: UE5 | B33: PPR1 | C33: UE | D33: 6 | G33: XMUPPRS1 | H33: 02-Droit public
B34: Droit du contentieux international | C34: ECUE | G34: XMEDCI1 | H34: 02-Droit public | I34: 20
B35: Anglais juridique | C35: ECUE | G35: XMEANG1 | H35: 02-Droit public | J35: 15
B36: Méthode de la recherche juridique | C36: ECUE | G36: XMEMRJ1 | H36: 02-Droit public | J36: 20

Sheet S1 M1 SIDIE MCC
A7: Composante | B7: ='Fiche Générale'!B2 -> IDPD | C7: Diplôme | E7: ='Fiche Générale'!B3 -> Droit international et européen | G7: Code diplôme | H7: ='Fiche Générale'!B4 -> XMDIE24
C10: Parcours type | E10: ='Fiche Générale'!B12 -> Sécurité Internationale, Défense, Intelligence Economique
M12: 1ère session | P12: Seconde Chance
A13: Année | B13: ='S1 M1 SIDIE Maquette'!B13:B14 -> 1ère année | D13: Code Année : | E13: ='S1 M1 SIDIE Maquette'!E13:F14 -> XMDIE1 | H13: Session
M14: Contrôle continu | N14: Contrôle Terminal
A15: Semestre | B15: ='S1 M1 SIDIE Maquette'!B15:B16 -> Semestre 1 | D15: Code Semestre : | E15: ='S1 M1 SIDIE Maquette'!E15:F16 -> XMS01DIE | H15: ='Fiche Générale'!B5 -> Session Unique
A18: Libellé | B18: Nature | C18: Statut | D18: Coefficient | E18: Notes attendues | F18: Résultat attendu: (ACQ/AJ) | G18: Conservation note | H18: Capitalisable | I18: Compensable | J18: Seuil de compensation /20 | K18: Type de contrôle | L18: Si CC&CT coef du CT | M18: Nbre d'évalution minimum | N18: Nature | O18: Durée | P18: Format d'évaluation | Q18: Nature | R18: Durée | S18: Modalités de mise en œuvre | T18: Commentaires
A19: ='S1 M1 SIDIE Maquette'!B19 -> Droit international privé | B19: ='S1 M1 SIDIE Maquette'!C19 -> UE | C19: ='S1 M1 SIDIE Maquette'!F19 -> 0
A20: ='S1 M1 SIDIE Maquette'!B20 -> Droit international privé CM | B20: ='S1 M1 SIDIE Maquette'!C20 -> ECUE | C20: ='S1 M1 SIDIE Maquette'!F20 -> 0 | D20: 1 | E20: OUI | F20: OUI | G20: OUI | H20: OUI | I20: OUI | J20: 10 | K20: CT (Contrôle terminal) | N20: Écrit | O20: 3 H
A21: ='S1 M1 SIDIE Maquette'!B21 -> Droit international privé TD | B21: ='S1 M1 SIDIE Maquette'!C21 -> ECUE | C21: ='S1 M1 SIDIE Maquette'!F21 -> 0 | D21: 0.5 | E21: OUI | F21: OUI | G21: OUI | H21: OUI | I21: OUI | J21: 10 | K21: CCI (CC Intégral) | M21: 2
A22: ='S1 M1 SIDIE Maquette'!B22 -> Contentieux de l'Union européenne | B22: ='S1 M1 SIDIE Maquette'!C22 -> UE | C22: ='S1 M1 SIDIE Maquette'!F22 -> 0
A23: ='S1 M1 SIDIE Maquette'!B23 -> Contentieux de l’Union européenne | B23: ='S1 M1 SIDIE Maquette'!C23 -> ECUE | C23: ='S1 M1 SIDIE Maquette'!F23 -> 0 | D23: 1 | E23: OUI | F23: OUI | G23: OUI | H23: OUI | I23: OUI | J23: 10 | K23: CT (Contrôle terminal) | N23: Écrit | O23: 3H
A24: ='S1 M1 SIDIE Maquette'!B24 -> Contentieux de l’Union européenne | B24: ='S1 M1 SIDIE Maquette'!C24 -> ECUE | C24: ='S1 M1 SIDIE Maquette'!F24 -> 0 | D24: 0.5 | E24: OUI | F24: OUI | G24: OUI | H24: OUI | I24: OUI | J24: 10 | K24: CCI (CC Intégral) | M24: 2
A25: ='S1 M1 SIDIE Maquette'!B25 -> Droit international public | B25: ='S1 M1 SIDIE Maquette'!C25 -> UE | C25: ='S1 M1 SIDIE Maquette'!F25 -> 0
A26: ='S1 M1 SIDIE Maquette'!B26 -> Droit de la responsabilité internationale | B26: ='S1 M1 SIDIE Maquette'!C26 -> ECUE | C26: ='S1 M1 SIDIE Maquette'!F26 -> 0 | D26: 1 | E26: OUI | F26: OUI | G26: OUI | H26: OUI | I26: OUI | J26: 10 | K26: CT (Contrôle terminal) | N26: Écrit | O26: 2H
A27: ='S1 M1 SIDIE Maquette'!B27 -> Droit des organisations internationales | B27: ='S1 M1 SIDIE Maquette'!C27 -> ECUE | C27: ='S1 M1 SIDIE Maquette'!F27 -> 0 | D27: 1 | E27: OUI | F27: OUI | G27: OUI | H27: OUI | I27: OUI | J27: 10 | K27: CT (Contrôle terminal) | N27: Écrit | O27: 2H
A28: ='S1 M1 SIDIE Maquette'!B28 -> Spécialisation | B28: ='S1 M1 SIDIE Maquette'!C28 -> UE | C28: ='S1 M1 SIDIE Maquette'!F28 -> 0 | E28: OUI | F28: OUI | G28: OUI | H28: OUI | I28: OUI | J28: 10
A29: ='S1 M1 SIDIE Maquette'!B29 -> Droit international des espaces | B29: ='S1 M1 SIDIE Maquette'!C29 -> ECUE | C29: ='S1 M1 SIDIE Maquette'!F29 -> 0 | D29: 1 | E29: OUI | F29: OUI | G29: OUI | H29: OUI | I29: OUI | J29: 10 | K29: CT (Contrôle terminal) | N29: Écrit | O29: 2H
A30: ='S1 M1 SIDIE Maquette'!B30 -> Droit des relations extérieures de l’Union européenne | B30: ='S1 M1 SIDIE Maquette'!C30 -> ECUE | C30: ='S1 M1 SIDIE Maquette'!F30 -> 0 | D30: 1 | E30: OUI | F30: OUI | G30: OUI | H30: OUI | I30: OUI | J30: 10 | K30: CT (Contrôle terminal) | N30: Oral
A31: ='S1 M1 SIDIE Maquette'!B31 -> Droit international et européen du numérique | B31: ='S1 M1 SIDIE Maquette'!C31 -> ECUE | C31: ='S1 M1 SIDIE Maquette'!F31 -> 0 | D31: 1 | E31: OUI | F31: OUI | G31: OUI | H31: OUI | I31: OUI | J31: 10 | K31: CT (Contrôle terminal) | N31: Oral
A32: ='S1 M1 SIDIE Maquette'!B32 -> 0 | B32: ='S1 M1 SIDIE Maquette'!C32 -> 0 | C32: ='S1 M1 SIDIE Maquette'!F32 -> 0
A33: ='S1 M1 SIDIE Maquette'!B33 -> PPR1 | B33: ='S1 M1 SIDIE Maquette'!C33 -> UE | C33: ='S1 M1 SIDIE Maquette'!F33 -> 0 | E33: OUI | F33: OUI | G33: OUI | H33: OUI | I33: OUI | J33: 10
A34: ='S1 M1 SIDIE Maquette'!B34 -> Droit du contentieux international | B34: ='S1 M1 SIDIE Maquette'!C34 -> ECUE | C34: ='S1 M1 SIDIE Maquette'!F34 -> 0 | D34: 1 | E34: OUI | F34: OUI | G34: OUI | H34: OUI | I34: OUI | J34: 10 | K34: CCI (CC Intégral) | M34: 2 | N34: Écrit | O34: 3H
A35: ='S1 M1 SIDIE Maquette'!B35 -> Anglais juridique | B35: ='S1 M1 SIDIE Maquette'!C35 -> ECUE | C35: ='S1 M1 SIDIE Maquette'!F35 -> 0 | D35: 0.5 | E35: OUI | F35: OUI | G35: OUI | H35: OUI | I35: OUI | J35: 10 | K35: CCI (CC Intégral) | M35: 2
A36: ='S1 M1 SIDIE Maquette'!B36 -> Méthode de la recherche juridique | B36: ='S1 M1 SIDIE Maquette'!C36 -> ECUE | C36: ='S1 M1 SIDIE Maquette'!F36 -> 0 | D36: 1 | E36: OUI | F36: OUI | G36: OUI | H36: OUI | I36: OUI | J36: 10 | K36: CCI (CC Intégral) | M36: 2
A37: ='S1 M1 SIDIE Maquette'!B37 -> 0 | B37: ='S1 M1 SIDIE Maquette'!C37 -> 0 | C37: ='S1 M1 SIDIE Maquette'!F37 -> 0
A38: ='S1 M1 SIDIE Maquette'!B38 -> 0 | B38: ='S1 M1 SIDIE Maquette'!C38 -> 0 | C38: ='S1 M1 SIDIE Maquette'!F38 -> 0
A39: ='S1 M1 SIDIE Maquette'!B39 -> 0 | B39: ='S1 M1 SIDIE Maquette'!C39 -> 0 | C39: ='S1 M1 SIDIE Maquette'!F39 -> 0
A40: ='S1 M1 SIDIE Maquette'!B40 -> 0 | B40: ='S1 M1 SIDIE Maquette'!C40 -> 0 | C40: ='S1 M1 SIDIE Maquette'!F40 -> 0
A41: ='S1 M1 SIDIE Maquette'!B41 -> 0 | B41: ='S1 M1 SIDIE Maquette'!C41 -> 0 | C41: ='S1 M1 SIDIE Maquette'!F41 -> 0
A42: ='S1 M1 SIDIE Maquette'!B42 -> 0 | B42: ='S1 M1 SIDIE Maquette'!C42 -> 0 | C42: ='S1 M1 SIDIE Maquette'!F42 -> 0
A43: ='S1 M1 SIDIE Maquette'!B43 -> 0 | B43: ='S1 M1 SIDIE Maquette'!C43 -> 0 | C43: ='S1 M1 SIDIE Maquette'!F43 -> 0
A44: ='S1 M1 SIDIE Maquette'!B44 -> 0 | B44: ='S1 M1 SIDIE Maquette'!C44 -> 0 | C44: ='S1 M1 SIDIE Maquette'!F44 -> 0
A45: ='S1 M1 SIDIE Maquette'!B45 -> 0 | B45: ='S1 M1 SIDIE Maquette'!C45 -> 0 | C45: ='S1 M1 SIDIE Maquette'!F45 -> 0
A46: ='S1 M1 SIDIE Maquette'!B46 -> 0 | B46: ='S1 M1 SIDIE Maquette'!C46 -> 0 | C46: ='S1 M1 SIDIE Maquette'!F46 -> 0
A47: ='S1 M1 SIDIE Maquette'!B47 -> 0 | B47: ='S1 M1 SIDIE Maquette'!C47 -> 0 | C47: ='S1 M1 SIDIE Maquette'!F47 -> 0
A48: ='S1 M1 SIDIE Maquette'!B48 -> 0 | B48: ='S1 M1 SIDIE Maquette'!C48 -> 0 | C48: ='S1 M1 SIDIE Maquette'!F48 -> 0
... A300: ='S1 M1 SIDIE Maquette'!B300 -> 0 | B300: ='S1 M1 SIDIE Maquette'!C300 -> 0 | C300: ='S1 M1 SIDIE Maquette'!F300 -> 0

Sheet S2 M1 SIDIE Maquette
A7: Composante | B7: ='Fiche Générale'!B2 -> IDPD | C7: Diplôme | E7: ='Fiche Générale'!B3 -> Droit international et européen | G7: Code diplôme | H7: ='Fiche Générale'!B4 -> XMDIE24
C10: Parcours type | E10: ='Fiche Générale'!B12 -> Sécurité Internationale, Défense, Intelligence Economique
A13: Année | B13: ='S1 M1 SIDIE Maquette'!B13:B14 -> 1ère année | C13: Code année | E13: ='S1 M1 SIDIE Maquette'!E13:F14 -> XMDIE1 | G13: Heures Maquette | H13: =Calcul!D7 -> 293
A15: Semestre | B15: Semestre 2 | C15: Code semestre | E15: XMS02DIE | G15: Heures Valorisées | H15: =Calcul!D20 -> 293
A18: Niveau | B18: Libellé ELP | C18: Nature ELP | D18: ECTS | E18: Type | F18: Statut | G18: Code Apogée | H18: CNU | I18: Heure CM | J18: Heure TD | K18: Heure TP | L18: Langues | M18: Mutualisation | N18: Formation Porteuse | O18: Observations / Remarques ex: Intervention à titre gracieux / Capacité d'accueil max
A19: UE6 | B19: Droit international du commerce | C19: UE | D19: 6 | G19: XMUDCI2 | H19: 02-Droit public
B20: Droit international du commerce | C20: ECUE | G20: XMEDIC21 | H20: 02-Droit public | I20: 30
B21: Droit international du commerce | C21: ECUE | G21: XMEDIC22 | H21: 02-Droit public | J21: 15
A22: UE7 | B22: Environnement et ressources | C22: UE | D22: 6 | G22: XMUENR2 | H22: 02-Droit public
B23: Droit international et européen de l’environnement | C23: ECUE | G23: XMEDEE2 | H23: 02-Droit public | I23: 30
B24: Droit international et européen des ressources naturelles et de l'énergie | C24: ECUE | G24: XMEDRN2 | H24: 02-Droit public | I24: 20
A25: UE8 | B25: Spécialisation | C25: UE | D25: 6 | G25: XMUSPE2 | H25: 02-Droit public
B26: Droit international et recours à la force | C26: ECUE | G26: XMEDRI2 | H26: 02-Droit public | I26: 20
B27: Droit international et européen des migrations | C27: ECUE | G27: XMUDEM | H27: 02-Droit public | I27: 30
B28: Droit international et européen des droits de l'homme | C28: ECUE | G28: XMEDIHX | H28: 02-Droit public | I28: 20 | M28: Porteuse
A29: UE9 - | B29: PPR 2 | C29: UE | D29: 12 | E29: Obligatoire | G29: XMUPPRS2 liste à fermer | H29: 02-Droit public
B30: Méthode de l'argumentation juridique | C30: ECUE | E30: Obligatoire | G30: XMEMRA2 | H30: 02-Droit public | J30: 30
B31: Anglais juridique | C31: ECUE | E31: Obligatoire | G31: XMEANG2 | H31: 02-Droit public | J31: 15
B32: Formation aux compétences informationnelles | C32: ECUE | E32: Obligatoire | G32: XMEFCI2 | H32: 02-Droit public | J32: 8 | O32: Formation assurée par le service DiBSO (bibliothèque) dans le cadre de son programme de formation à la recherche pour les étudiants de Master

Sheet S2 M1 SIDIE MCC
A7: Composante | B7: ='Fiche Générale'!B2 -> IDPD | C7: Diplôme | E7: ='Fiche Générale'!B3 -> Droit international et européen | G7: Code diplôme | H7: ='Fiche Générale'!B4 -> XMDIE24
C10: Parcours type | E10: ='Fiche Générale'!B12 -> Sécurité Internationale, Défense, Intelligence Economique
M12: 1ère session | P12: Seconde Chance
A13: Année | B13: ='S2 M1 SIDIE Maquette'!B13:B14 -> 1ère année | D13: Code Année : | E13: ='S2 M1 SIDIE Maquette'!E13:F14 -> XMDIE1 | H13: Session
M14: Contrôle continu | N14: Contrôle Terminal
A15: Semestre | B15: ='S2 M1 SIDIE Maquette'!B15:B16 -> Semestre 2 | D15: Code Semestre : | E15: ='S2 M1 SIDIE Maquette'!E15:F16 -> XMS02DIE | H15: ='Fiche Générale'!B5 -> Session Unique
A18: Libellé | B18: Nature | C18: Statut | D18: Coefficient | E18: Notes attendues | F18: Résultat attendu: (ACQ/AJ) | G18: Conservation note | H18: Capitalisable | I18: Compensable | J18: Seuil de compensation | K18: Type de contrôle | L18: Si CC&CT coef du CT | M18: Nbre d'évalution minimum | N18: Nature | O18: Durée | P18: Format d'évaluation | Q18: Nature | R18: Durée | S18: Modalités de mise en œuvre
A19: ='S2 M1 SIDIE Maquette'!B19 -> Droit international du commerce | B19: ='S2 M1 SIDIE Maquette'!C19 -> UE | C19: ='S2 M1 SIDIE Maquette'!F19 -> 0
A20: ='S2 M1 SIDIE Maquette'!B20 -> Droit international du commerce | B20: ='S2 M1 SIDIE Maquette'!C20 -> ECUE | C20: ='S2 M1 SIDIE Maquette'!F20 -> 0 | D20: 1 | E20: OUI | F20: OUI | G20: OUI | H20: OUI | I20: OUI | J20: 10 | K20: CT (Contrôle terminal) | N20: Écrit | O20: 3H | P20: CT (Contrôle terminal)
A21: ='S2 M1 SIDIE Maquette'!B21 -> Droit international du commerce | B21: ='S2 M1 SIDIE Maquette'!C21 -> ECUE | C21: ='S2 M1 SIDIE Maquette'!F21 -> 0 | D21: 0.5 | E21: OUI | F21: OUI | G21: OUI | H21: OUI | I21: OUI | J21: 10 | K21: CCI (CC Intégral) | M21: 2
A22: ='S2 M1 SIDIE Maquette'!B22 -> Environnement et ressources | B22: ='S2 M1 SIDIE Maquette'!C22 -> UE | C22: ='S2 M1 SIDIE Maquette'!F22 -> 0 | E22: OUI | F22: OUI | G22: OUI | H22: OUI | I22: OUI | J22: 10
A23: ='S2 M1 SIDIE Maquette'!B23 -> Droit international et européen de l’environnement | B23: ='S2 M1 SIDIE Maquette'!C23 -> ECUE | C23: ='S2 M1 SIDIE Maquette'!F23 -> 0 | D23: 1 | E23: OUI | F23: OUI | G23: OUI | H23: OUI | I23: OUI | J23: 10 | K23: CT (Contrôle terminal) | N23: Écrit | O23: 2H
A24: ='S2 M1 SIDIE Maquette'!B24 -> Droit international et européen des ressources naturelles et de l'énergie | B24: ='S2 M1 SIDIE Maquette'!C24 -> ECUE | C24: ='S2 M1 SIDIE Maquette'!F24 -> 0 | D24: 1 | E24: OUI | F24: OUI | G24: OUI | H24: OUI | I24: OUI | J24: 10 | K24: CT (Contrôle terminal) | N24: Écrit | O24: 2H
A25: ='S2 M1 SIDIE Maquette'!B25 -> Spécialisation | B25: ='S2 M1 SIDIE Maquette'!C25 -> UE | C25: ='S2 M1 SIDIE Maquette'!F25 -> 0 | E25: OUI | F25: OUI | G25: OUI | H25: OUI | I25: OUI | J25: 10
A26: ='S2 M1 SIDIE Maquette'!B26 -> Droit international et recours à la force | B26: ='S2 M1 SIDIE Maquette'!C26 -> ECUE | C26: ='S2 M1 SIDIE Maquette'!F26 -> 0 | D26: 1 | E26: OUI | F26: OUI | G26: OUI | H26: OUI | I26: OUI | J26: 10 | K26: CT (Contrôle terminal) | N26: Écrit | O26: 3H
A27: ='S2 M1 SIDIE Maquette'!B27 -> Droit international et européen des migrations | B27: ='S2 M1 SIDIE Maquette'!C27 -> ECUE | C27: ='S2 M1 SIDIE Maquette'!F27 -> 0 | D27: 1 | E27: OUI | F27: OUI | G27: OUI | H27: OUI | I27: OUI | J27: 10 | K27: CT (Contrôle terminal) | N27: Oral
A28: ='S2 M1 SIDIE Maquette'!B28 -> Droit international et européen des droits de l'homme | B28: ='S2 M1 SIDIE Maquette'!C28 -> ECUE | C28: ='S2 M1 SIDIE Maquette'!F28 -> 0 | D28: 1 | E28: OUI | F28: OUI | G28: OUI | H28: OUI | I28: OUI | J28: 10 | K28: CT (Contrôle terminal) | N28: Oral
A29: ='S2 M1 SIDIE Maquette'!B29 -> PPR 2 | B29: ='S2 M1 SIDIE Maquette'!C29 -> UE | C29: ='S2 M1 SIDIE Maquette'!F29 -> 0 | E29: OUI | F29: OUI | G29: OUI | H29: OUI | I29: OUI | J29: 10
A30: ='S2 M1 SIDIE Maquette'!B30 -> Méthode de l'argumentation juridique | B30: ='S2 M1 SIDIE Maquette'!C30 -> ECUE | C30: ='S2 M1 SIDIE Maquette'!F30 -> 0 | D30: 1 | E30: OUI | F30: OUI | G30: OUI | H30: OUI | I30: OUI | J30: 10 | K30: CCI (CC Intégral) | M30: 2
A31: ='S2 M1 SIDIE Maquette'!B31 -> Anglais juridique | B31: ='S2 M1 SIDIE Maquette'!C31 -> ECUE | C31: ='S2 M1 SIDIE Maquette'!F31 -> 0 | D31: 0.5 | E31: OUI | F31: OUI | G31: OUI | H31: OUI | I31: OUI | J31: 10 | K31: CCI (CC Intégral) | M31: 2
A32: ='S2 M1 SIDIE Maquette'!B32 -> Formation aux compétences informationnelles | B32: ='S2 M1 SIDIE Maquette'!C32 -> ECUE | C32: ='S2 M1 SIDIE Maquette'!F32 -> 0
A33: ='S2 M1 SIDIE Maquette'!B33 -> 0 | B33: ='S2 M1 SIDIE Maquette'!C33 -> 0 | C33: ='S2 M1 SIDIE Maquette'!F33 -> 0
A34: ='S2 M1 SIDIE Maquette'!B34 -> 0 | B34: ='S2 M1 SIDIE Maquette'!C34 -> 0 | C34: ='S2 M1 SIDIE Maquette'!F34 -> 0
A35: ='S2 M1 SIDIE Maquette'!B35 -> 0 | B35: ='S2 M1 SIDIE Maquette'!C35 -> 0 | C35: ='S2 M1 SIDIE Maquette'!F35 -> 0
A36: ='S2 M1 SIDIE Maquette'!B36 -> 0 | B36: ='S2 M1 SIDIE Maquette'!C36 -> 0 | C36: ='S2 M1 SIDIE Maquette'!F36 -> 0
A37: ='S2 M1 SIDIE Maquette'!B37 -> 0 | B37: ='S2 M1 SIDIE Maquette'!C37 -> 0 | C37: ='S2 M1 SIDIE Maquette'!F37 -> 0
A38: ='S2 M1 SIDIE Maquette'!B38 -> 0 | B38: ='S2 M1 SIDIE Maquette'!C38 -> 0 | C38: ='S2 M1 SIDIE Maquette'!F38 -> 0
A39: ='S2 M1 SIDIE Maquette'!B39 -> 0 | B39: ='S2 M1 SIDIE Maquette'!C39 -> 0 | C39: ='S2 M1 SIDIE Maquette'!F39 -> 0
A40: ='S2 M1 SIDIE Maquette'!B40 -> 0 | B40: ='S2 M1 SIDIE Maquette'!C40 -> 0 | C40: ='S2 M1 SIDIE Maquette'!F40 -> 0
A41: ='S2 M1 SIDIE Maquette'!B41 -> 0 | B41: ='S2 M1 SIDIE Maquette'!C41 -> 0 | C41: ='S2 M1 SIDIE Maquette'!F41 -> 0
A42: ='S2 M1 SIDIE Maquette'!B42 -> 0 | B42: ='S2 M1 SIDIE Maquette'!C42 -> 0 | C42: ='S2 M1 SIDIE Maquette'!F42 -> 0
A43: ='S2 M1 SIDIE Maquette'!B43 -> 0 | B43: ='S2 M1 SIDIE Maquette'!C43 -> 0 | C43: ='S2 M1 SIDIE Maquette'!F43 -> 0
... A300: ='S2 M1 SIDIE Maquette'!B300 -> 0 | B300: ='S2 M1 SIDIE Maquette'!C300 -> 0 | C300: ='S2 M1 SIDIE Maquette'!F300 -> 0

Sheet S3 M1 SIDIE Maquette
A7: Composante | B7: ='Fiche Générale'!B2 -> IDPD | C7: Diplôme | E7: ='Fiche Générale'!B3 -> Droit international et européen | G7: Code diplôme | H7: ='Fiche Générale'!B4 -> XMDIE24
C10: Parcours type | E10: ='Fiche Générale'!C12 -> 0
A13: Année | B13: 2ème Année | C13: Code année | E13: ='S1 M1 SIDIE Maquette'!E13:F14 -> XMDIE1 | G13: Heures Maquette | H13: =Calcul!G7 -> 202.5
A15: Semestre | B15: Semestre 3 | C15: Code semestre | E15: XMS03DSI | G15: Heures Valorisées | H15: =Calcul!G20 -> 202.5
A18: Niveau | B18: Libellé ELP | C18: Nature ELP | D18: ECTS | E18: Type | F18: Statut | G18: Code Apogée | H18: CNU | I18: Heure CM | J18: Heure TD | K18: Heure TP | L18: Langues | M18: Mutualisation | N18: Formation Porteuse | O18: Observations / Remarques ex: Intervention à titre gracieux / Capacité d'accueil max
A19: UE1 | B19: Droit économique de la défense | C19: UE | D19: 6 | G19: XMUDSI01 | H19: 02-Droit public
B20: Politique et organisation de la défense | C20: ECUE | G20: XMEPOD1 | H20: 02-Droit public | I20: 15
B21: Economie de la défense | C21: ECUE | G21: XMEEDD1 | H21: 02-Droit public | I21: 15
A22: UE2 | B22: Intelligence économique | C22: UE | D22: 3 | G22: XMUDIN3 | H22: 02-Droit public
B23: IE, veille et protection des données | C23: ECUE | G23: XMEIEP2 | H23: 02-Droit public | I23: 25
A24: UE3 | B24: Export control et sanctions | C24: UE | D24: 3 | G24: XMUDEX3 | H24: 02-Droit public
B25: Contrôle des exportations d'armes et de BTDU | C25: ECUE | G25: XMECEA3 | H25: 02-Droit public | I25: 15
B26: Conformité et sanctions internationales | C26: ECUE | G26: XMEDCS3 | H26: 02-Droit public | I26: 10
A27: UE4 | B27: Sécurité humaine | C27: UE | D27: 6 | G27: XMUDHU3 | H27: 02-Droit public
B28: Droit du désarmement et de la non-prolifération | C28: ECUE | G28: XMEDNP3 | H28: 02-Droit public | I28: 20
B29: Droit international humanitaire | C29: ECUE | G29: XMEDDI3 | H29: 02-Droit public | I29: 20 | M29: Porteuse
A30: UE5 | B30: Projet professionnel et de recherche | C30: UE | D30: 12 | G30: XMUDSI4 | H30: 02-Droit public
B31: Méthodologie du rapport de stage ou du mémoire | C31: ECUE | G31: XMEMMS4 | H31: 02-Droit public | I31: 10
B32: Cycle de conférence et veille informationnelle | C32: ECUE | G32: XMEDCC3 | H32: 02-Droit public | I32: 5

Sheet S3 M1 SIDIE MCC
A7: Composante | B7: ='Fiche Générale'!B2 -> IDPD | C7: Diplôme | E7: ='Fiche Générale'!B3 -> Droit international et européen | G7: Code diplôme | H7: ='Fiche Générale'!B4 -> XMDIE24
C10: Parcours type | E10: ='Fiche Générale'!B12 -> Sécurité Internationale, Défense, Intelligence Economique
M12: 1ère session | P12: Seconde Chance
A13: Année | B13: ='S3 M1 SIDIE Maquette'!B13:B14 -> 2ème Année | D13: Code Année : | E13: ='S3 M1 SIDIE Maquette'!E13:F14 -> XMDIE1 | H13: Session
M14: Contrôle continu | N14: Contrôle Terminal
A15: Semestre | B15: ='S3 M1 SIDIE Maquette'!B15:B16 -> Semestre 3 | D15: Code Semestre : | E15: ='S3 M1 SIDIE Maquette'!E15:F16 -> XMS03DSI | H15: ='Fiche Générale'!B5 -> Session Unique
A18: Libellé | B18: Nature | C18: Statut | D18: Coefficient | E18: Notes attendues | F18: Résultat attendu: (ACQ/AJ) | G18: Conservation note | H18: Capitalisable | I18: Compensable | J18: Seuil de compensation /20 | K18: Type de contrôle | L18: Si CC&CT coef du CT | M18: Nbre d'évalution minimum | N18: Nature | O18: Durée | P18: Format d'évaluation | Q18: Nature | R18: Durée | S18: Modalités de mise en œuvre | T18: Commentaires
A19: ='S3 M1 SIDIE Maquette'!B19 -> Droit économique de la défense | B19: ='S3 M1 SIDIE Maquette'!C19 -> UE | C19: ='S3 M1 SIDIE Maquette'!F19 -> 0 | E19: OUI | F19: OUI | G19: OUI | H19: OUI | I19: OUI | J19: 10
A20: ='S3 M1 SIDIE Maquette'!B20 -> Politique et organisation de la défense | B20: ='S3 M1 SIDIE Maquette'!C20 -> ECUE | C20: ='S3 M1 SIDIE Maquette'!F20 -> 0 | D20: 2 | E20: OUI | F20: OUI | G20: OUI | H20: OUI | I20: OUI | J20: 10 | K20: CCI (CC Intégral) | M20: 2
A21: ='S3 M1 SIDIE Maquette'!B21 -> Economie de la défense | B21: ='S3 M1 SIDIE Maquette'!C21 -> ECUE | C21: ='S3 M1 SIDIE Maquette'!F21 -> 0 | D21: 2 | E21: OUI | F21: OUI | G21: OUI | H21: OUI | I21: OUI | J21: 10 | K21: CCI (CC Intégral) | M21: 2
A22: ='S3 M1 SIDIE Maquette'!B22 -> Intelligence économique | B22: ='S3 M1 SIDIE Maquette'!C22 -> UE | C22: ='S3 M1 SIDIE Maquette'!F22 -> 0 | E22: OUI | F22: OUI | G22: OUI | H22: OUI | I22: OUI | J22: 10
A23: ='S3 M1 SIDIE Maquette'!B23 -> IE, veille et protection des données | B23: ='S3 M1 SIDIE Maquette'!C23 -> ECUE | C23: ='S3 M1 SIDIE Maquette'!F23 -> 0 | D23: 2 | E23: OUI | F23: OUI | G23: OUI | H23: OUI | I23: OUI | J23: 10 | K23: CCI (CC Intégral) | M23: 2
A24: ='S3 M1 SIDIE Maquette'!B24 -> Export control et sanctions | B24: ='S3 M1 SIDIE Maquette'!C24 -> UE | C24: ='S3 M1 SIDIE Maquette'!F24 -> 0 | E24: OUI | F24: OUI | G24: OUI | H24: OUI | I24: OUI | J24: 10
A25: ='S3 M1 SIDIE Maquette'!B25 -> Contrôle des exportations d'armes et de BTDU | B25: ='S3 M1 SIDIE Maquette'!C25 -> ECUE | C25: ='S3 M1 SIDIE Maquette'!F25 -> 0 | D25: 1 | E25: OUI | F25: OUI | G25: OUI | H25: OUI | I25: OUI | J25: 10 | K25: CT (Contrôle terminal) | N25: Écrit | O25: 1H
A26: ='S3 M1 SIDIE Maquette'!B26 -> Conformité et sanctions internationales | B26: ='S3 M1 SIDIE Maquette'!C26 -> ECUE | C26: ='S3 M1 SIDIE Maquette'!F26 -> 0 | D26: 1 | E26: OUI | F26: OUI | G26: OUI | H26: OUI | I26: OUI | J26: 10 | K26: CT (Contrôle terminal) | N26: Écrit | O26: 1H
A27: ='S3 M1 SIDIE Maquette'!B27 -> Sécurité humaine | B27: ='S3 M1 SIDIE Maquette'!C27 -> UE | C27: ='S3 M1 SIDIE Maquette'!F27 -> 0 | E27: OUI | F27: OUI | G27: OUI | H27: OUI | I27: OUI | J27: 10
A28: ='S3 M1 SIDIE Maquette'!B28 -> Droit du désarmement et de la non-prolifération | B28: ='S3 M1 SIDIE Maquette'!C28 -> ECUE | C28: ='S3 M1 SIDIE Maquette'!F28 -> 0 | D28: 2 | E28: OUI | F28: OUI | G28: OUI | H28: OUI | I28: OUI | J28: 10 | K28: CT (Contrôle terminal) | N28: Écrit | O28: 2H
A29: ='S3 M1 SIDIE Maquette'!B29 -> Droit international humanitaire | B29: ='S3 M1 SIDIE Maquette'!C29 -> ECUE | C29: ='S3 M1 SIDIE Maquette'!F29 -> 0 | D29: 2 | E29: OUI | F29: OUI | G29: OUI | H29: OUI | I29: OUI | J29: 10 | K29: CT (Contrôle terminal) | N29: Écrit | O29: 3H
A30: ='S3 M1 SIDIE Maquette'!B30 -> Projet professionnel et de recherche | B30: ='S3 M1 SIDIE Maquette'!C30 -> UE | C30: ='S3 M1 SIDIE Maquette'!F30 -> 0 | E30: OUI | F30: OUI | G30: OUI | H30: OUI | I30: OUI | J30: 10
A31: ='S3 M1 SIDIE Maquette'!B31 -> Méthodologie du rapport de stage ou du mémoire | B31: ='S3 M1 SIDIE Maquette'!C31 -> ECUE | C31: ='S3 M1 SIDIE Maquette'!F31 -> 0 | D31: 1 | E31: OUI | F31: OUI | G31: OUI | H31: OUI | I31: OUI | J31: 10 | K31: CCI (CC Intégral) | M31: 2
A32: ='S3 M1 SIDIE Maquette'!B32 -> Cycle de conférence et veille informationnelle | B32: ='S3 M1 SIDIE Maquette'!C32 -> ECUE | C32: ='S3 M1 SIDIE Maquette'!F32 -> 0 | D32: 1 | E32: NON | F32: NON
A33: ='S3 M1 SIDIE Maquette'!B33 -> 0 | B33: ='S3 M1 SIDIE Maquette'!C33 -> 0 | C33: ='S3 M1 SIDIE Maquette'!F33 -> 0
A34: ='S3 M1 SIDIE Maquette'!B34 -> 0 | B34: ='S3 M1 SIDIE Maquette'!C34 -> 0 | C34: ='S3 M1 SIDIE Maquette'!F34 -> 0
A35: ='S3 M1 SIDIE Maquette'!B35 -> 0 | B35: ='S3 M1 SIDIE Maquette'!C35 -> 0 | C35: ='S3 M1 SIDIE Maquette'!F35 -> 0
A36: ='S3 M1 SIDIE Maquette'!B36 -> 0 | B36: ='S3 M1 SIDIE Maquette'!C36 -> 0 | C36: ='S3 M1 SIDIE Maquette'!F36 -> 0
A37: ='S3 M1 SIDIE Maquette'!B37 -> 0 | B37: ='S3 M1 SIDIE Maquette'!C37 -> 0 | C37: ='S3 M1 SIDIE Maquette'!F37 -> 0
A38: ='S3 M1 SIDIE Maquette'!B38 -> 0 | B38: ='S3 M1 SIDIE Maquette'!C38 -> 0 | C38: ='S3 M1 SIDIE Maquette'!F38 -> 0
A39: ='S3 M1 SIDIE Maquette'!B39 -> 0 | B39: ='S3 M1 SIDIE Maquette'!C39 -> 0 | C39: ='S3 M1 SIDIE Maquette'!F39 -> 0
A40: ='S3 M1 SIDIE Maquette'!B40 -> 0 | B40: ='S3 M1 SIDIE Maquette'!C40 -> 0 | C40: ='S3 M1 SIDIE Maquette'!F40 -> 0
A41: ='S3 M1 SIDIE Maquette'!B41 -> 0 | B41: ='S3 M1 SIDIE Maquette'!C41 -> 0 | C41: ='S3 M1 SIDIE Maquette'!F41 -> 0
A42: ='S3 M1 SIDIE Maquette'!B42 -> 0 | B42: ='S3 M1 SIDIE Maquette'!C42 -> 0 | C42: ='S3 M1 SIDIE Maquette'!F42 -> 0
A43: ='S3 M1 SIDIE Maquette'!B43 -> 0 | B43: ='S3 M1 SIDIE Maquette'!C43 -> 0 | C43: ='S3 M1 SIDIE Maquette'!F43 -> 0
A44: ='S3 M1 SIDIE Maquette'!B44 -> 0 | B44: ='S3 M1 SIDIE Maquette'!C44 -> 0 | C44: ='S3 M1 SIDIE Maquette'!F44 -> 0
... A300: ='S3 M1 SIDIE Maquette'!B300 -> 0 | B300: ='S3 M1 SIDIE Maquette'!C300 -> 0 | C300: ='S3 M1 SIDIE Maquette'!F300 -> 0

Sheet S4 M1 SIDIE Maquette
A7: Composante | B7: ='Fiche Générale'!B2 -> IDPD | C7: Diplôme | E7: ='Fiche Générale'!B3 -> Droit international et européen | G7: Code diplôme | H7: ='Fiche Générale'!B4 -> XMDIE24
C10: Parcours type | E10: ='Fiche Générale'!C12 -> 0
A13: Année | B13: 2ème Année | C13: Code année | E13: ='S1 M1 SIDIE Maquette'!E13:F14 -> XMDIE1 | G13: Heures Maquette | H13: =Calcul!J7 -> 165
A15: Semestre | B15: Semestre 4 | C15: Code semestre | E15: XMS04DSI | G15: Heures Valorisées | H15: =Calcul!J20 -> 135
A18: Niveau | B18: Libellé ELP | C18: Nature ELP | D18: ECTS | E18: Type | F18: Statut | G18: Code Apogée | H18: CNU | I18: Heure CM | J18: Heure TD | K18: Heure TP | L18: Langues | M18: Mutualisation | N18: Formation Porteuse | O18: Observations / Remarques ex: Intervention à titre gracieux / Capacité d'accueil max
A19: UE5 | B19: Sécurité des espaces | C19: UE | D19: 6 | G19: XMUDSE4
B20: Droit international et européen de la sécurité en mer | C20: ECUE | G20: XMEDSM6 | I20: 20 | M20: Portée | N20: M2 DMAM
B21: Enjeux juridiques de l'espace extra-atmosphérique | C21: ECUE | G21: XMEDEJ4 | I21: 20
A22: UE6 | B22: Méthodologie de l'analyse géopolitique | C22: UE | D22: 3 | G22: XMUDSI06
B23: Méthodologie de l'analyse géopolitique | C23: ECUE | G23: XMEDSI06 | I23: 20
A24: UE7 | B24: Enjeux de sécurité européenne | C24: UE | D24: 6 | G24: XMUDSI7
B25: Défense européenne | C25: ECUE | G25: XMEDSE7 | I25: 20
B26: Cybersécurité européenne | C26: ECUE | G26: XMEDSCY | I26: 20
A27: UE8 | B27: Projet professionnel et de recherche | C27: UE | D27: 15 | G27: XMUDPR4
B28: Au choix : PPR rapport de stage | C28: ECUE | G28: XMERSM8
B29: ou PPR mémoire | C29: ECUE | G29: XMERME9
B30: Cycle de conférence et veille informationnelle | C30: ECUE | G30: XMEDCC4 | J30: 15

Sheet S4 M1 SIDIE MCC
A7: Composante | B7: ='Fiche Générale'!B2 -> IDPD | C7: Diplôme | E7: ='Fiche Générale'!B3 -> Droit international et européen | G7: Code diplôme | H7: ='Fiche Générale'!B4 -> XMDIE24
C10: Parcours type | E10: ='Fiche Générale'!B12 -> Sécurité Internationale, Défense, Intelligence Economique
M12: 1ère session | P12: Seconde Chance
A13: Année | B13: ='S4 M1 SIDIE Maquette'!B13:B14 -> 2ème Année | D13: Code Année : | E13: ='S4 M1 SIDIE Maquette'!E13:F14 -> XMDIE1 | H13: Session
M14: Contrôle continu | N14: Contrôle Terminal
A15: Semestre | B15: ='S4 M1 SIDIE Maquette'!B15:B16 -> Semestre 4 | D15: Code Semestre : | E15: ='S4 M1 SIDIE Maquette'!E15:F16 -> XMS04DSI | H15: ='Fiche Générale'!B5 -> Session Unique
A18: Libellé | B18: Nature | C18: Statut | D18: Coefficient | E18: Notes attendues | F18: Résultat attendu: (ACQ/AJ) | G18: Conservation note | H18: Capitalisable | I18: Compensable | J18: Seuil de compensation /20 | K18: Type de contrôle | L18: Si CC&CT coef du CT | M18: Nbre d'évalution minimum | N18: Nature | O18: Durée | P18: Format d'évaluation | Q18: Nature | R18: Durée | S18: Modalités de mise en œuvre | T18: Commentaires
A19: ='S4 M1 SIDIE Maquette'!B19 -> Sécurité des espaces | B19: ='S4 M1 SIDIE Maquette'!C19 -> UE | C19: ='S4 M1 SIDIE Maquette'!F19 -> 0 | E19: OUI | F19: OUI | G19: OUI | H19: OUI | I19: OUI | J19: 10
A20: ='S4 M1 SIDIE Maquette'!B20 -> Droit international et européen de la sécurité en mer | B20: ='S4 M1 SIDIE Maquette'!C20 -> ECUE | C20: ='S4 M1 SIDIE Maquette'!F20 -> 0 | D20: 2 | E20: OUI | F20: OUI | G20: OUI | H20: OUI | I20: OUI | J20: 10 | K20: CT (Contrôle terminal) | N20: Écrit | O20: 3H
A21: ='S4 M1 SIDIE Maquette'!B21 -> Enjeux juridiques de l'espace extra-atmosphérique | B21: ='S4 M1 SIDIE Maquette'!C21 -> ECUE | C21: ='S4 M1 SIDIE Maquette'!F21 -> 0 | D21: 2 | E21: OUI | F21: OUI | G21: OUI | H21: OUI | I21: OUI | J21: 10 | K21: CCI (CC Intégral) | M21: 2
A22: ='S4 M1 SIDIE Maquette'!B22 -> Méthodologie de l'analyse géopolitique | B22: ='S4 M1 SIDIE Maquette'!C22 -> UE | C22: ='S4 M1 SIDIE Maquette'!F22 -> 0 | E22: OUI | F22: OUI | G22: OUI | H22: OUI | I22: OUI | J22: 10
A23: ='S4 M1 SIDIE Maquette'!B23 -> Méthodologie de l'analyse géopolitique | B23: ='S4 M1 SIDIE Maquette'!C23 -> ECUE | C23: ='S4 M1 SIDIE Maquette'!F23 -> 0 | D23: 2 | E23: OUI | F23: OUI | G23: OUI | H23: OUI | I23: OUI | J23: 10 | K23: CC&CT | N23: Écrit | O23: 3H
A24: ='S4 M1 SIDIE Maquette'!B24 -> Enjeux de sécurité européenne | B24: ='S4 M1 SIDIE Maquette'!C24 -> UE | C24: ='S4 M1 SIDIE Maquette'!F24 -> 0 | E24: OUI | F24: OUI | G24: OUI | H24: OUI | I24: OUI | J24: 10
A25: ='S4 M1 SIDIE Maquette'!B25 -> Défense européenne | B25: ='S4 M1 SIDIE Maquette'!C25 -> ECUE | C25: ='S4 M1 SIDIE Maquette'!F25 -> 0 | D25: 2 | E25: OUI | F25: OUI | G25: OUI | H25: OUI | I25: OUI | J25: 10 | K25: CCI (CC Intégral) | M25: 2
A26: ='S4 M1 SIDIE Maquette'!B26 -> Cybersécurité européenne | B26: ='S4 M1 SIDIE Maquette'!C26 -> ECUE | C26: ='S4 M1 SIDIE Maquette'!F26 -> 0 | D26: 2 | E26: OUI | F26: OUI | G26: OUI | H26: OUI | I26: OUI | J26: 10 | K26: CCI (CC Intégral) | M26: 2
A27: ='S4 M1 SIDIE Maquette'!B27 -> Projet professionnel et de recherche | B27: ='S4 M1 SIDIE Maquette'!C27 -> UE | C27: ='S4 M1 SIDIE Maquette'!F27 -> 0 | E27: OUI | F27: OUI | G27: OUI | H27: OUI | I27: OUI | J27: 10
A28: ='S4 M1 SIDIE Maquette'!B28 -> Au choix : PPR rapport de stage | B28: ='S4 M1 SIDIE Maquette'!C28 -> ECUE | C28: ='S4 M1 SIDIE Maquette'!F28 -> 0 | D28: 3 | E28: OUI | F28: OUI | G28: OUI | H28: OUI | I28: OUI | J28: 10
A29: ='S4 M1 SIDIE Maquette'!B29 -> ou PPR mémoire | B29: ='S4 M1 SIDIE Maquette'!C29 -> ECUE | C29: ='S4 M1 SIDIE Maquette'!F29 -> 0 | D29: 4 | E29: OUI | F29: OUI | G29: OUI | H29: OUI | I29: OUI | J29: 10
A30: ='S4 M1 SIDIE Maquette'!B30 -> Cycle de conférence et veille informationnelle | B30: ='S4 M1 SIDIE Maquette'!C30 -> ECUE | C30: ='S4 M1 SIDIE Maquette'!F30 -> 0 | E30: NON | F30: NON
A31: ='S4 M1 SIDIE Maquette'!B31 -> 0 | B31: ='S4 M1 SIDIE Maquette'!C31 -> 0 | C31: ='S4 M1 SIDIE Maquette'!F31 -> 0
A32: ='S4 M1 SIDIE Maquette'!B32 -> 0 | B32: ='S4 M1 SIDIE Maquette'!C32 -> 0 | C32: ='S4 M1 SIDIE Maquette'!F32 -> 0
A33: ='S4 M1 SIDIE Maquette'!B33 -> 0 | B33: ='S4 M1 SIDIE Maquette'!C33 -> 0 | C33: ='S4 M1 SIDIE Maquette'!F33 -> 0
A34: ='S4 M1 SIDIE Maquette'!B34 -> 0 | B34: ='S4 M1 SIDIE Maquette'!C34 -> 0 | C34: ='S4 M1 SIDIE Maquette'!F34 -> 0
A35: ='S4 M1 SIDIE Maquette'!B35 -> 0 | B35: ='S4 M1 SIDIE Maquette'!C35 -> 0 | C35: ='S4 M1 SIDIE Maquette'!F35 -> 0
A36: ='S4 M1 SIDIE Maquette'!B36 -> 0 | B36: ='S4 M1 SIDIE Maquette'!C36 -> 0 | C36: ='S4 M1 SIDIE Maquette'!F36 -> 0
A37: ='S4 M1 SIDIE Maquette'!B37 -> 0 | B37: ='S4 M1 SIDIE Maquette'!C37 -> 0 | C37: ='S4 M1 SIDIE Maquette'!F37 -> 0
A38: ='S4 M1 SIDIE Maquette'!B38 -> 0 | B38: ='S4 M1 SIDIE Maquette'!C38 -> 0 | C38: ='S4 M1 SIDIE Maquette'!F38 -> 0
A39: ='S4 M1 SIDIE Maquette'!B39 -> 0 | B39: ='S4 M1 SIDIE Maquette'!C39 -> 0 | C39: ='S4 M1 SIDIE Maquette'!F39 -> 0
A40: ='S4 M1 SIDIE Maquette'!B40 -> 0 | B40: ='S4 M1 SIDIE Maquette'!C40 -> 0 | C40: ='S4 M1 SIDIE Maquette'!F40 -> 0
A41: ='S4 M1 SIDIE Maquette'!B41 -> 0 | B41: ='S4 M1 SIDIE Maquette'!C41 -> 0 | C41: ='S4 M1 SIDIE Maquette'!F41 -> 0
A42: ='S4 M1 SIDIE Maquette'!B42 -> 0 | B42: ='S4 M1 SIDIE Maquette'!C42 -> 0 | C42: ='S4 M1 SIDIE Maquette'!F42 -> 0
... A300: ='S4 M1 SIDIE Maquette'!B300 -> 0 | B300: ='S4 M1 SIDIE Maquette'!C300 -> 0 | C300: ='S4 M1 SIDIE Maquette'!F300 -> 0
